BEGIN:VCALENDAR
VERSION:2.0
PRODID:-//Canyon Ski Resort - ECPv6.15.17.1//NONSGML v1.0//EN
CALSCALE:GREGORIAN
METHOD:PUBLISH
X-WR-CALNAME:Canyon Ski Resort
X-ORIGINAL-URL:https://canyonski.ca
X-WR-CALDESC:Events for Canyon Ski Resort
REFRESH-INTERVAL;VALUE=DURATION:PT1H
X-Robots-Tag:noindex
X-PUBLISHED-TTL:PT1H
BEGIN:VTIMEZONE
TZID:America/Edmonton
BEGIN:DAYLIGHT
TZOFFSETFROM:-0700
TZOFFSETTO:-0600
TZNAME:MDT
DTSTART:20240310T090000
END:DAYLIGHT
BEGIN:STANDARD
TZOFFSETFROM:-0600
TZOFFSETTO:-0700
TZNAME:MST
DTSTART:20241103T080000
END:STANDARD
BEGIN:DAYLIGHT
TZOFFSETFROM:-0700
TZOFFSETTO:-0600
TZNAME:MDT
DTSTART:20250309T090000
END:DAYLIGHT
BEGIN:STANDARD
TZOFFSETFROM:-0600
TZOFFSETTO:-0700
TZNAME:MST
DTSTART:20251102T080000
END:STANDARD
BEGIN:DAYLIGHT
TZOFFSETFROM:-0700
TZOFFSETTO:-0600
TZNAME:MDT
DTSTART:20260308T090000
END:DAYLIGHT
BEGIN:STANDARD
TZOFFSETFROM:-0600
TZOFFSETTO:-0700
TZNAME:MST
DTSTART:20261101T080000
END:STANDARD
END:VTIMEZONE
BEGIN:VEVENT
DTSTART;TZID=America/Edmonton:20250701T100000
DTEND;TZID=America/Edmonton:20250701T180000
DTSTAMP:20260423T023952
CREATED:20250515T221614Z
LAST-MODIFIED:20250515T221614Z
UID:46847-1751364000-1751392800@canyonski.ca
SUMMARY:Canyon Coaster Open
DESCRIPTION:
URL:https://canyonski.ca/hours/canyon-coaster-open-186/
END:VEVENT
BEGIN:VEVENT
DTSTART;TZID=America/Edmonton:20250701T110000
DTEND;TZID=America/Edmonton:20250701T170000
DTSTAMP:20260423T023952
CREATED:20250515T223043Z
LAST-MODIFIED:20250619T163252Z
UID:46886-1751367600-1751389200@canyonski.ca
SUMMARY:Adventure Park & Zipline Open
DESCRIPTION:
URL:https://canyonski.ca/hours/adventure-park-zipline-open-9/
END:VEVENT
BEGIN:VEVENT
DTSTART;TZID=America/Edmonton:20250701T110000
DTEND;TZID=America/Edmonton:20250701T170000
DTSTAMP:20260423T023952
CREATED:20250515T224206Z
LAST-MODIFIED:20250515T224206Z
UID:46914-1751367600-1751389200@canyonski.ca
SUMMARY:Summer Tube Park & Bungee Trampoline Open
DESCRIPTION:
URL:https://canyonski.ca/hours/summer-tube-park-bungee-trampoline-open-5/
END:VEVENT
BEGIN:VEVENT
DTSTART;VALUE=DATE:20250702
DTEND;VALUE=DATE:20250703
DTSTAMP:20260423T023952
CREATED:20250515T224407Z
LAST-MODIFIED:20250515T224407Z
UID:46922-1751414400-1751500799@canyonski.ca
SUMMARY:CLOSED
DESCRIPTION:
URL:https://canyonski.ca/hours/closed/
END:VEVENT
BEGIN:VEVENT
DTSTART;TZID=America/Edmonton:20250703T100000
DTEND;TZID=America/Edmonton:20250703T180000
DTSTAMP:20260423T023952
CREATED:20250515T221821Z
LAST-MODIFIED:20250515T221821Z
UID:46852-1751536800-1751565600@canyonski.ca
SUMMARY:Canyon Coaster Open
DESCRIPTION:
URL:https://canyonski.ca/hours/canyon-coaster-open-187/
END:VEVENT
BEGIN:VEVENT
DTSTART;TZID=America/Edmonton:20250703T110000
DTEND;TZID=America/Edmonton:20250703T170000
DTSTAMP:20260423T023952
CREATED:20250515T223128Z
LAST-MODIFIED:20250619T163256Z
UID:46888-1751540400-1751562000@canyonski.ca
SUMMARY:Adventure Park & Zipline Open
DESCRIPTION:
URL:https://canyonski.ca/hours/adventure-park-zipline-open-10/
END:VEVENT
BEGIN:VEVENT
DTSTART;TZID=America/Edmonton:20250703T110000
DTEND;TZID=America/Edmonton:20250703T170000
DTSTAMP:20260423T023952
CREATED:20250515T224233Z
LAST-MODIFIED:20250515T224233Z
UID:46916-1751540400-1751562000@canyonski.ca
SUMMARY:Summer Tube Park & Bungee Trampoline Open
DESCRIPTION:
URL:https://canyonski.ca/hours/summer-tube-park-bungee-trampoline-open-6/
END:VEVENT
BEGIN:VEVENT
DTSTART;TZID=America/Edmonton:20250704T100000
DTEND;TZID=America/Edmonton:20250704T170000
DTSTAMP:20260423T023952
CREATED:20250515T221901Z
LAST-MODIFIED:20250515T221901Z
UID:46856-1751623200-1751648400@canyonski.ca
SUMMARY:Canyon Coaster Open
DESCRIPTION:
URL:https://canyonski.ca/hours/canyon-coaster-open-188/
END:VEVENT
BEGIN:VEVENT
DTSTART;TZID=America/Edmonton:20250704T110000
DTEND;TZID=America/Edmonton:20250704T170000
DTSTAMP:20260423T023952
CREATED:20250515T223204Z
LAST-MODIFIED:20250619T163317Z
UID:46891-1751626800-1751648400@canyonski.ca
SUMMARY:Adventure Park & Zipline Open
DESCRIPTION:
URL:https://canyonski.ca/hours/adventure-park-zipline-open-11/
END:VEVENT
BEGIN:VEVENT
DTSTART;TZID=America/Edmonton:20250704T110000
DTEND;TZID=America/Edmonton:20250704T170000
DTSTAMP:20260423T023952
CREATED:20250515T224258Z
LAST-MODIFIED:20250515T224258Z
UID:46918-1751626800-1751648400@canyonski.ca
SUMMARY:Summer Tube Park & Bungee Trampoline Open
DESCRIPTION:
URL:https://canyonski.ca/hours/summer-tube-park-bungee-trampoline-open-7/
END:VEVENT
BEGIN:VEVENT
DTSTART;TZID=America/Edmonton:20250705T100000
DTEND;TZID=America/Edmonton:20250705T170000
DTSTAMP:20260423T023952
CREATED:20250515T221917Z
LAST-MODIFIED:20250515T221917Z
UID:46858-1751709600-1751734800@canyonski.ca
SUMMARY:Canyon Coaster Open
DESCRIPTION:
URL:https://canyonski.ca/hours/canyon-coaster-open-189/
END:VEVENT
BEGIN:VEVENT
DTSTART;TZID=America/Edmonton:20250705T110000
DTEND;TZID=America/Edmonton:20250705T170000
DTSTAMP:20260423T023952
CREATED:20250515T223300Z
LAST-MODIFIED:20250619T163318Z
UID:46894-1751713200-1751734800@canyonski.ca
SUMMARY:Adventure Park & Zipline Open
DESCRIPTION:
URL:https://canyonski.ca/hours/adventure-park-zipline-open-12/
END:VEVENT
BEGIN:VEVENT
DTSTART;TZID=America/Edmonton:20250705T110000
DTEND;TZID=America/Edmonton:20250705T170000
DTSTAMP:20260423T023952
CREATED:20250515T224328Z
LAST-MODIFIED:20250515T224328Z
UID:46920-1751713200-1751734800@canyonski.ca
SUMMARY:Summer Tube Park & Bungee Trampoline Open
DESCRIPTION:
URL:https://canyonski.ca/hours/summer-tube-park-bungee-trampoline-open-8/
END:VEVENT
BEGIN:VEVENT
DTSTART;TZID=America/Edmonton:20250706T100000
DTEND;TZID=America/Edmonton:20250706T180000
DTSTAMP:20260423T023952
CREATED:20250515T225420Z
LAST-MODIFIED:20250515T225420Z
UID:46949-1751796000-1751824800@canyonski.ca
SUMMARY:Canyon Coaster Open
DESCRIPTION:
URL:https://canyonski.ca/hours/canyon-coaster-open-190/
END:VEVENT
BEGIN:VEVENT
DTSTART;TZID=America/Edmonton:20250706T110000
DTEND;TZID=America/Edmonton:20250706T170000
DTSTAMP:20260423T023952
CREATED:20250515T234332Z
LAST-MODIFIED:20250619T163343Z
UID:47069-1751799600-1751821200@canyonski.ca
SUMMARY:Adventure Park & Zipline Open
DESCRIPTION:
URL:https://canyonski.ca/hours/adventure-park-zipline-open-13/
END:VEVENT
BEGIN:VEVENT
DTSTART;TZID=America/Edmonton:20250706T110000
DTEND;TZID=America/Edmonton:20250706T170000
DTSTAMP:20260423T023952
CREATED:20250516T164611Z
LAST-MODIFIED:20250516T164611Z
UID:47207-1751799600-1751821200@canyonski.ca
SUMMARY:Summer Tube Park & Bungee Trampoline Open
DESCRIPTION:
URL:https://canyonski.ca/hours/summer-tube-park-bungee-trampoline-open-9/
END:VEVENT
BEGIN:VEVENT
DTSTART;TZID=America/Edmonton:20250707T100000
DTEND;TZID=America/Edmonton:20250707T180000
DTSTAMP:20260423T023952
CREATED:20250515T225438Z
LAST-MODIFIED:20250515T225439Z
UID:46954-1751882400-1751911200@canyonski.ca
SUMMARY:Canyon Coaster Open
DESCRIPTION:
URL:https://canyonski.ca/hours/canyon-coaster-open-191/
END:VEVENT
BEGIN:VEVENT
DTSTART;TZID=America/Edmonton:20250707T110000
DTEND;TZID=America/Edmonton:20250707T170000
DTSTAMP:20260423T023952
CREATED:20250515T234412Z
LAST-MODIFIED:20250619T163346Z
UID:47071-1751886000-1751907600@canyonski.ca
SUMMARY:Adventure Park & Zipline Open
DESCRIPTION:
URL:https://canyonski.ca/hours/adventure-park-zipline-open-14/
END:VEVENT
BEGIN:VEVENT
DTSTART;TZID=America/Edmonton:20250707T110000
DTEND;TZID=America/Edmonton:20250707T170000
DTSTAMP:20260423T023952
CREATED:20250516T164641Z
LAST-MODIFIED:20250516T164641Z
UID:47212-1751886000-1751907600@canyonski.ca
SUMMARY:Summer Tube Park & Bungee Trampoline Open
DESCRIPTION:
URL:https://canyonski.ca/hours/summer-tube-park-bungee-trampoline-open-10/
END:VEVENT
BEGIN:VEVENT
DTSTART;TZID=America/Edmonton:20250708T100000
DTEND;TZID=America/Edmonton:20250708T170000
DTSTAMP:20260423T023952
CREATED:20250515T225557Z
LAST-MODIFIED:20250708T201821Z
UID:46956-1751968800-1751994000@canyonski.ca
SUMMARY:Canyon Coaster Open
DESCRIPTION:
URL:https://canyonski.ca/hours/canyon-coaster-open-192/
END:VEVENT
BEGIN:VEVENT
DTSTART;TZID=America/Edmonton:20250708T110000
DTEND;TZID=America/Edmonton:20250708T170000
DTSTAMP:20260423T023952
CREATED:20250515T234817Z
LAST-MODIFIED:20250619T163358Z
UID:47073-1751972400-1751994000@canyonski.ca
SUMMARY:Adventure Park & Zipline Open
DESCRIPTION:
URL:https://canyonski.ca/hours/adventure-park-zipline-open-15/
END:VEVENT
BEGIN:VEVENT
DTSTART;TZID=America/Edmonton:20250708T110000
DTEND;TZID=America/Edmonton:20250708T170000
DTSTAMP:20260423T023952
CREATED:20250516T164715Z
LAST-MODIFIED:20250516T164715Z
UID:47214-1751972400-1751994000@canyonski.ca
SUMMARY:Summer Tube Park & Bungee Trampoline Open
DESCRIPTION:
URL:https://canyonski.ca/hours/summer-tube-park-bungee-trampoline-open-11/
END:VEVENT
BEGIN:VEVENT
DTSTART;VALUE=DATE:20250709
DTEND;VALUE=DATE:20250710
DTSTAMP:20260423T023952
CREATED:20250515T224424Z
LAST-MODIFIED:20250515T224424Z
UID:46924-1752019200-1752105599@canyonski.ca
SUMMARY:CLOSED
DESCRIPTION:
URL:https://canyonski.ca/hours/closed-2/
END:VEVENT
BEGIN:VEVENT
DTSTART;TZID=America/Edmonton:20250710T100000
DTEND;TZID=America/Edmonton:20250710T180000
DTSTAMP:20260423T023952
CREATED:20250515T225654Z
LAST-MODIFIED:20250515T225654Z
UID:46960-1752141600-1752170400@canyonski.ca
SUMMARY:Canyon Coaster Open
DESCRIPTION:
URL:https://canyonski.ca/hours/canyon-coaster-open-193/
END:VEVENT
BEGIN:VEVENT
DTSTART;TZID=America/Edmonton:20250710T110000
DTEND;TZID=America/Edmonton:20250710T170000
DTSTAMP:20260423T023952
CREATED:20250515T234901Z
LAST-MODIFIED:20250619T163417Z
UID:47075-1752145200-1752166800@canyonski.ca
SUMMARY:Adventure Park & Zipline Open
DESCRIPTION:
URL:https://canyonski.ca/hours/adventure-park-zipline-open-16/
END:VEVENT
BEGIN:VEVENT
DTSTART;TZID=America/Edmonton:20250710T110000
DTEND;TZID=America/Edmonton:20250710T170000
DTSTAMP:20260423T023952
CREATED:20250516T164825Z
LAST-MODIFIED:20250516T164825Z
UID:47216-1752145200-1752166800@canyonski.ca
SUMMARY:Summer Tube Park & Bungee Trampoline Open
DESCRIPTION:
URL:https://canyonski.ca/hours/summer-tube-park-bungee-trampoline-open-12/
END:VEVENT
BEGIN:VEVENT
DTSTART;TZID=America/Edmonton:20250711T100000
DTEND;TZID=America/Edmonton:20250711T180000
DTSTAMP:20260423T023952
CREATED:20250515T225811Z
LAST-MODIFIED:20250515T225811Z
UID:46962-1752228000-1752256800@canyonski.ca
SUMMARY:Canyon Coaster Open
DESCRIPTION:
URL:https://canyonski.ca/hours/canyon-coaster-open-194/
END:VEVENT
BEGIN:VEVENT
DTSTART;TZID=America/Edmonton:20250711T110000
DTEND;TZID=America/Edmonton:20250711T170000
DTSTAMP:20260423T023952
CREATED:20250515T235034Z
LAST-MODIFIED:20250619T163436Z
UID:47077-1752231600-1752253200@canyonski.ca
SUMMARY:Adventure Park & Zipline Open
DESCRIPTION:
URL:https://canyonski.ca/hours/adventure-park-zipline-open-17/
END:VEVENT
BEGIN:VEVENT
DTSTART;TZID=America/Edmonton:20250711T110000
DTEND;TZID=America/Edmonton:20250711T170000
DTSTAMP:20260423T023952
CREATED:20250516T165232Z
LAST-MODIFIED:20250516T165232Z
UID:47224-1752231600-1752253200@canyonski.ca
SUMMARY:Summer Tube Park & Bungee Trampoline Open
DESCRIPTION:
URL:https://canyonski.ca/hours/summer-tube-park-bungee-trampoline-open-14/
END:VEVENT
BEGIN:VEVENT
DTSTART;TZID=America/Edmonton:20250712T100000
DTEND;TZID=America/Edmonton:20250712T180000
DTSTAMP:20260423T023952
CREATED:20250515T225843Z
LAST-MODIFIED:20250515T225843Z
UID:46964-1752314400-1752343200@canyonski.ca
SUMMARY:Canyon Coaster Open
DESCRIPTION:
URL:https://canyonski.ca/hours/canyon-coaster-open-195/
END:VEVENT
END:VCALENDAR