BEGIN:VCALENDAR
VERSION:2.0
PRODID:-//Canyon Ski Resort - ECPv6.15.17.1//NONSGML v1.0//EN
CALSCALE:GREGORIAN
METHOD:PUBLISH
X-ORIGINAL-URL:https://canyonski.ca
X-WR-CALDESC:Events for Canyon Ski Resort
REFRESH-INTERVAL;VALUE=DURATION:PT1H
X-Robots-Tag:noindex
X-PUBLISHED-TTL:PT1H
BEGIN:VTIMEZONE
TZID:America/Edmonton
BEGIN:DAYLIGHT
TZOFFSETFROM:-0700
TZOFFSETTO:-0600
TZNAME:MDT
DTSTART:20240310T090000
END:DAYLIGHT
BEGIN:STANDARD
TZOFFSETFROM:-0600
TZOFFSETTO:-0700
TZNAME:MST
DTSTART:20241103T080000
END:STANDARD
BEGIN:DAYLIGHT
TZOFFSETFROM:-0700
TZOFFSETTO:-0600
TZNAME:MDT
DTSTART:20250309T090000
END:DAYLIGHT
BEGIN:STANDARD
TZOFFSETFROM:-0600
TZOFFSETTO:-0700
TZNAME:MST
DTSTART:20251102T080000
END:STANDARD
BEGIN:DAYLIGHT
TZOFFSETFROM:-0700
TZOFFSETTO:-0600
TZNAME:MDT
DTSTART:20260308T090000
END:DAYLIGHT
BEGIN:STANDARD
TZOFFSETFROM:-0600
TZOFFSETTO:-0700
TZNAME:MST
DTSTART:20261101T080000
END:STANDARD
END:VTIMEZONE
BEGIN:VEVENT
DTSTART;TZID=America/Edmonton:20250601T100000
DTEND;TZID=America/Edmonton:20250601T170000
DTSTAMP:20260423T040243
CREATED:20250515T220215Z
LAST-MODIFIED:20250515T220234Z
UID:46821-1748772000-1748797200@canyonski.ca
SUMMARY:Canyon Coaster Open
DESCRIPTION:
URL:https://canyonski.ca/hours/canyon-coaster-open-106/
END:VEVENT
BEGIN:VEVENT
DTSTART;TZID=America/Edmonton:20250607T100000
DTEND;TZID=America/Edmonton:20250607T170000
DTSTAMP:20260423T040243
CREATED:20250515T220415Z
LAST-MODIFIED:20250515T220415Z
UID:46824-1749290400-1749315600@canyonski.ca
SUMMARY:Canyon Coaster Open
DESCRIPTION:
URL:https://canyonski.ca/hours/canyon-coaster-open-141/
END:VEVENT
BEGIN:VEVENT
DTSTART;TZID=America/Edmonton:20250607T110000
DTEND;TZID=America/Edmonton:20250607T170000
DTSTAMP:20260423T040243
CREATED:20250319T174947Z
LAST-MODIFIED:20250515T221954Z
UID:46556-1749294000-1749315600@canyonski.ca
SUMMARY:Adventure Park & Zipline Opening Day
DESCRIPTION:
URL:https://canyonski.ca/hours/adventure-park-and-zipline-projected-opening-day/
CATEGORIES:Hours
END:VEVENT
BEGIN:VEVENT
DTSTART;TZID=America/Edmonton:20250608T100000
DTEND;TZID=America/Edmonton:20250608T170000
DTSTAMP:20260423T040243
CREATED:20250515T220627Z
LAST-MODIFIED:20250515T220627Z
UID:46826-1749376800-1749402000@canyonski.ca
SUMMARY:Canyon Coaster Open
DESCRIPTION:
URL:https://canyonski.ca/hours/canyon-coaster-open-148/
END:VEVENT
BEGIN:VEVENT
DTSTART;TZID=America/Edmonton:20250608T110000
DTEND;TZID=America/Edmonton:20250608T170000
DTSTAMP:20260423T040243
CREATED:20250515T222110Z
LAST-MODIFIED:20250515T222110Z
UID:46862-1749380400-1749402000@canyonski.ca
SUMMARY:Adventure Park & Zipline Open
DESCRIPTION:
URL:https://canyonski.ca/hours/adventure-park-zipline-open/
END:VEVENT
BEGIN:VEVENT
DTSTART;TZID=America/Edmonton:20250613T000000
DTEND;TZID=America/Edmonton:20250613T000000
DTSTAMP:20260423T040243
CREATED:20250613T210427Z
LAST-MODIFIED:20250613T210427Z
UID:11430-1749772800-1749772800@canyonski.ca
SUMMARY:Canyon Coaster Closed Due To Projected Thunderstorm& Risk of Tornado
DESCRIPTION:
URL:https://canyonski.ca/hours/canyon-coaster-closed-due-to-projected-thunderstorm-risk-of-tornado/
END:VEVENT
BEGIN:VEVENT
DTSTART;TZID=America/Edmonton:20250613T173000
DTEND;TZID=America/Edmonton:20250613T193000
DTSTAMP:20260423T040243
CREATED:20250516T173442Z
LAST-MODIFIED:20250613T210934Z
UID:47355-1749835800-1749843000@canyonski.ca
SUMMARY:Adventure Park & Zipline Closed Due To Projected Thunderstorm& Risk of Tornado
DESCRIPTION:
URL:https://canyonski.ca/hours/adventure-park-zipline-locals-night/
END:VEVENT
BEGIN:VEVENT
DTSTART;TZID=America/Edmonton:20250614T100000
DTEND;TZID=America/Edmonton:20250614T170000
DTSTAMP:20260423T040243
CREATED:20250515T220743Z
LAST-MODIFIED:20250515T220743Z
UID:46828-1749895200-1749920400@canyonski.ca
SUMMARY:Canyon Coaster Open
DESCRIPTION:
URL:https://canyonski.ca/hours/canyon-coaster-open-168/
END:VEVENT
BEGIN:VEVENT
DTSTART;TZID=America/Edmonton:20250614T110000
DTEND;TZID=America/Edmonton:20250614T170000
DTSTAMP:20260423T040243
CREATED:20250515T222303Z
LAST-MODIFIED:20250515T222303Z
UID:46867-1749898800-1749920400@canyonski.ca
SUMMARY:Adventure Park & Zipline Open
DESCRIPTION:
URL:https://canyonski.ca/hours/adventure-park-zipline-open-2/
END:VEVENT
BEGIN:VEVENT
DTSTART;TZID=America/Edmonton:20250614T120000
DTEND;TZID=America/Edmonton:20250614T170000
DTSTAMP:20260423T040243
CREATED:20250515T223538Z
LAST-MODIFIED:20250515T223558Z
UID:46898-1749902400-1749920400@canyonski.ca
SUMMARY:Bungee Trampoline Opening day
DESCRIPTION:
URL:https://canyonski.ca/hours/bungee-trampoline-opening-day/
END:VEVENT
BEGIN:VEVENT
DTSTART;TZID=America/Edmonton:20250615T100000
DTEND;TZID=America/Edmonton:20250615T170000
DTSTAMP:20260423T040243
CREATED:20250515T220845Z
LAST-MODIFIED:20250515T220845Z
UID:46832-1749981600-1750006800@canyonski.ca
SUMMARY:Canyon Coaster Open
DESCRIPTION:
URL:https://canyonski.ca/hours/canyon-coaster-open-176/
END:VEVENT
BEGIN:VEVENT
DTSTART;TZID=America/Edmonton:20250615T110000
DTEND;TZID=America/Edmonton:20250615T170000
DTSTAMP:20260423T040243
CREATED:20250515T222413Z
LAST-MODIFIED:20250515T222413Z
UID:46869-1749985200-1750006800@canyonski.ca
SUMMARY:Adventure Park & Zipline Open
DESCRIPTION:
URL:https://canyonski.ca/hours/adventure-park-zipline-open-3/
END:VEVENT
BEGIN:VEVENT
DTSTART;TZID=America/Edmonton:20250615T120000
DTEND;TZID=America/Edmonton:20250615T170000
DTSTAMP:20260423T040243
CREATED:20250515T223632Z
LAST-MODIFIED:20250515T223656Z
UID:46900-1749988800-1750006800@canyonski.ca
SUMMARY:Bungee trampoline Open
DESCRIPTION:
URL:https://canyonski.ca/hours/bungee-trampoline-open-6/
END:VEVENT
BEGIN:VEVENT
DTSTART;VALUE=DATE:20250620
DTEND;VALUE=DATE:20250621
DTSTAMP:20260423T040243
CREATED:20250516T173245Z
LAST-MODIFIED:20250620T182004Z
UID:47351-1750377600-1750463999@canyonski.ca
SUMMARY:Canyon Coaster CLOSED DUE TO INCLEMENT WEATHER
DESCRIPTION:
URL:https://canyonski.ca/hours/canyon-coaster-locals-night-2/
END:VEVENT
BEGIN:VEVENT
DTSTART;VALUE=DATE:20250620
DTEND;VALUE=DATE:20250621
DTSTAMP:20260423T040243
CREATED:20250516T173617Z
LAST-MODIFIED:20250620T181915Z
UID:47357-1750377600-1750463999@canyonski.ca
SUMMARY:Adventure Park & Zipline CLOSED DUE TO INCLEMENT WEATHER
DESCRIPTION:
URL:https://canyonski.ca/hours/adventure-park-zipline-locals-night-2/
END:VEVENT
BEGIN:VEVENT
DTSTART;TZID=America/Edmonton:20250621T130000
DTEND;TZID=America/Edmonton:20250621T170000
DTSTAMP:20260423T040243
CREATED:20250319T175044Z
LAST-MODIFIED:20250621T162541Z
UID:46558-1750510800-1750525200@canyonski.ca
SUMMARY:Summer Tube Park Opening Day
DESCRIPTION:
URL:https://canyonski.ca/hours/summer-tube-park-and-bungee-trampoline-proj-opening-date/
END:VEVENT
BEGIN:VEVENT
DTSTART;TZID=America/Edmonton:20250621T130000
DTEND;TZID=America/Edmonton:20250621T170000
DTSTAMP:20260423T040243
CREATED:20250515T221113Z
LAST-MODIFIED:20250621T162925Z
UID:46834-1750510800-1750525200@canyonski.ca
SUMMARY:Canyon Coaster Open
DESCRIPTION:
URL:https://canyonski.ca/hours/canyon-coaster-open-181/
END:VEVENT
BEGIN:VEVENT
DTSTART;TZID=America/Edmonton:20250621T130000
DTEND;TZID=America/Edmonton:20250621T170000
DTSTAMP:20260423T040243
CREATED:20250515T222435Z
LAST-MODIFIED:20250621T162711Z
UID:46871-1750510800-1750525200@canyonski.ca
SUMMARY:Adventure Park & Zipline Open
DESCRIPTION:
URL:https://canyonski.ca/hours/adventure-park-zipline-open-4/
END:VEVENT
BEGIN:VEVENT
DTSTART;TZID=America/Edmonton:20250621T130000
DTEND;TZID=America/Edmonton:20250621T170000
DTSTAMP:20260423T040243
CREATED:20250515T223733Z
LAST-MODIFIED:20250621T162237Z
UID:46903-1750510800-1750525200@canyonski.ca
SUMMARY:Bungee Trampoline Open
DESCRIPTION:
URL:https://canyonski.ca/hours/bungee-trampoline-open-7/
END:VEVENT
BEGIN:VEVENT
DTSTART;TZID=America/Edmonton:20250622T100000
DTEND;TZID=America/Edmonton:20250622T170000
DTSTAMP:20260423T040243
CREATED:20250515T221211Z
LAST-MODIFIED:20250515T221211Z
UID:46836-1750586400-1750611600@canyonski.ca
SUMMARY:Canyon Coaster Open
DESCRIPTION:
URL:https://canyonski.ca/hours/canyon-coaster-open-182/
END:VEVENT
BEGIN:VEVENT
DTSTART;TZID=America/Edmonton:20250622T110000
DTEND;TZID=America/Edmonton:20250622T170000
DTSTAMP:20260423T040243
CREATED:20250515T222550Z
LAST-MODIFIED:20250515T222550Z
UID:46874-1750590000-1750611600@canyonski.ca
SUMMARY:Adventure Park & Zipline Open
DESCRIPTION:
URL:https://canyonski.ca/hours/adventure-park-zipline-open-5/
END:VEVENT
BEGIN:VEVENT
DTSTART;TZID=America/Edmonton:20250622T120000
DTEND;TZID=America/Edmonton:20250622T170000
DTSTAMP:20260423T040243
CREATED:20250515T223948Z
LAST-MODIFIED:20250515T223948Z
UID:46906-1750593600-1750611600@canyonski.ca
SUMMARY:Summer Tube Park & Bungee Trampoline Open
DESCRIPTION:
URL:https://canyonski.ca/hours/summer-tube-park-bungee-trampoline-open/
END:VEVENT
BEGIN:VEVENT
DTSTART;VALUE=DATE:20250627
DTEND;VALUE=DATE:20250628
DTSTAMP:20260423T040243
CREATED:20250516T173309Z
LAST-MODIFIED:20250627T193916Z
UID:47353-1750982400-1751068799@canyonski.ca
SUMMARY:Canyon Coaster Closed Due to Thunderstorm
DESCRIPTION:
URL:https://canyonski.ca/hours/canyon-coaster-locals-night-3/
END:VEVENT
BEGIN:VEVENT
DTSTART;VALUE=DATE:20250627
DTEND;VALUE=DATE:20250628
DTSTAMP:20260423T040243
CREATED:20250516T173645Z
LAST-MODIFIED:20250627T193927Z
UID:47359-1750982400-1751068799@canyonski.ca
SUMMARY:Adventure Park & Zipline Closed Due to Thunderstorm
DESCRIPTION:
URL:https://canyonski.ca/hours/adventure-park-zipline-locals-night-3/
END:VEVENT
BEGIN:VEVENT
DTSTART;VALUE=DATE:20250627
DTEND;VALUE=DATE:20250628
DTSTAMP:20260423T040243
CREATED:20250516T173849Z
LAST-MODIFIED:20250627T193922Z
UID:47365-1750982400-1751068799@canyonski.ca
SUMMARY:Summer Tube Park Closed Due to Thunderstorm
DESCRIPTION:
URL:https://canyonski.ca/hours/summer-tube-park-locals-night/
END:VEVENT
BEGIN:VEVENT
DTSTART;TZID=America/Edmonton:20250628T100000
DTEND;TZID=America/Edmonton:20250628T170000
DTSTAMP:20260423T040243
CREATED:20250515T221323Z
LAST-MODIFIED:20250515T221323Z
UID:46840-1751104800-1751130000@canyonski.ca
SUMMARY:Canyon Coaster Open
DESCRIPTION:
URL:https://canyonski.ca/hours/canyon-coaster-open-183/
END:VEVENT
BEGIN:VEVENT
DTSTART;TZID=America/Edmonton:20250628T110000
DTEND;TZID=America/Edmonton:20250628T170000
DTSTAMP:20260423T040243
CREATED:20250515T222735Z
LAST-MODIFIED:20250515T222735Z
UID:46877-1751108400-1751130000@canyonski.ca
SUMMARY:Adventure Park & Zipline Open
DESCRIPTION:
URL:https://canyonski.ca/hours/adventure-park-zipline-open-6/
END:VEVENT
BEGIN:VEVENT
DTSTART;TZID=America/Edmonton:20250628T120000
DTEND;TZID=America/Edmonton:20250628T170000
DTSTAMP:20260423T040243
CREATED:20250515T224104Z
LAST-MODIFIED:20250515T224104Z
UID:46908-1751112000-1751130000@canyonski.ca
SUMMARY:Summer Tube Park & Bungee Trampoline Open
DESCRIPTION:
URL:https://canyonski.ca/hours/summer-tube-park-bungee-trampoline-open-2/
END:VEVENT
BEGIN:VEVENT
DTSTART;TZID=America/Edmonton:20250629T100000
DTEND;TZID=America/Edmonton:20250629T170000
DTSTAMP:20260423T040243
CREATED:20250515T221406Z
LAST-MODIFIED:20250515T221406Z
UID:46843-1751191200-1751216400@canyonski.ca
SUMMARY:Canyon Coaster Open
DESCRIPTION:
URL:https://canyonski.ca/hours/canyon-coaster-open-184/
END:VEVENT
BEGIN:VEVENT
DTSTART;TZID=America/Edmonton:20250629T110000
DTEND;TZID=America/Edmonton:20250629T170000
DTSTAMP:20260423T040243
CREATED:20250515T222829Z
LAST-MODIFIED:20250515T222829Z
UID:46879-1751194800-1751216400@canyonski.ca
SUMMARY:Adventure Park & Zipline Open
DESCRIPTION:
URL:https://canyonski.ca/hours/adventure-park-zipline-open-7/
END:VEVENT
END:VCALENDAR