BEGIN:VCALENDAR
VERSION:2.0
PRODID:-//Canyon Ski Resort - ECPv6.15.17.1//NONSGML v1.0//EN
CALSCALE:GREGORIAN
METHOD:PUBLISH
X-WR-CALNAME:Canyon Ski Resort
X-ORIGINAL-URL:https://canyonski.ca
X-WR-CALDESC:Events for Canyon Ski Resort
REFRESH-INTERVAL;VALUE=DURATION:PT1H
X-Robots-Tag:noindex
X-PUBLISHED-TTL:PT1H
BEGIN:VTIMEZONE
TZID:America/Edmonton
BEGIN:DAYLIGHT
TZOFFSETFROM:-0700
TZOFFSETTO:-0600
TZNAME:MDT
DTSTART:20230312T090000
END:DAYLIGHT
BEGIN:STANDARD
TZOFFSETFROM:-0600
TZOFFSETTO:-0700
TZNAME:MST
DTSTART:20231105T080000
END:STANDARD
BEGIN:DAYLIGHT
TZOFFSETFROM:-0700
TZOFFSETTO:-0600
TZNAME:MDT
DTSTART:20240310T090000
END:DAYLIGHT
BEGIN:STANDARD
TZOFFSETFROM:-0600
TZOFFSETTO:-0700
TZNAME:MST
DTSTART:20241103T080000
END:STANDARD
BEGIN:DAYLIGHT
TZOFFSETFROM:-0700
TZOFFSETTO:-0600
TZNAME:MDT
DTSTART:20250309T090000
END:DAYLIGHT
BEGIN:STANDARD
TZOFFSETFROM:-0600
TZOFFSETTO:-0700
TZNAME:MST
DTSTART:20251102T080000
END:STANDARD
END:VTIMEZONE
BEGIN:VEVENT
DTSTART;TZID=America/Edmonton:20241123T090000
DTEND;TZID=America/Edmonton:20241123T170000
DTSTAMP:20260423T131131
CREATED:20241114T221913Z
LAST-MODIFIED:20241114T221913Z
UID:46267-1732352400-1732381200@canyonski.ca
SUMMARY:OPEN for skiing & snowboarding
DESCRIPTION:
URL:https://canyonski.ca/hours/open-for-skiing-snowboarding-3/
END:VEVENT
BEGIN:VEVENT
DTSTART;TZID=America/Edmonton:20241204T100000
DTEND;TZID=America/Edmonton:20241204T210000
DTSTAMP:20260423T131131
CREATED:20241110T212423Z
LAST-MODIFIED:20241211T185419Z
UID:46245-1733306400-1733346000@canyonski.ca
SUMMARY:OPEN for skiing & snowboarding
DESCRIPTION:
URL:https://canyonski.ca/hours/open-for-skiing-snowboarding-4/
ATTACH;FMTTYPE=image/jpeg:https://canyonski.ca/wp-content/uploads/2024/11/Canyon027.jpg
END:VEVENT
BEGIN:VEVENT
DTSTART;TZID=America/Edmonton:20241204T100000
DTEND;TZID=America/Edmonton:20241204T210000
DTSTAMP:20260423T131131
CREATED:20241110T212423Z
LAST-MODIFIED:20241211T185419Z
UID:46245-1733306400-1733346000@canyonski.ca
SUMMARY:OPEN for skiing & snowboarding
DESCRIPTION:
URL:https://canyonski.ca/hours/open-for-skiing-snowboarding-4/
ATTACH;FMTTYPE=image/jpeg:https://canyonski.ca/wp-content/uploads/2024/11/Canyon027.jpg
END:VEVENT
BEGIN:VEVENT
DTSTART;TZID=America/Edmonton:20241206T130000
DTEND;TZID=America/Edmonton:20241206T210000
DTSTAMP:20260423T131131
CREATED:20241203T211725Z
LAST-MODIFIED:20241203T211838Z
UID:46388-1733490000-1733518800@canyonski.ca
SUMMARY:OPEN for skiing & snowboarding
DESCRIPTION:
URL:https://canyonski.ca/hours/open-for-skiing-snowboarding-11/
END:VEVENT
BEGIN:VEVENT
DTSTART;TZID=America/Edmonton:20241123T090000
DTEND;TZID=America/Edmonton:20241123T170000
DTSTAMP:20260423T131131
CREATED:20241114T221913Z
LAST-MODIFIED:20241114T221913Z
UID:46267-1732352400-1732381200@canyonski.ca
SUMMARY:OPEN for skiing & snowboarding
DESCRIPTION:
URL:https://canyonski.ca/hours/open-for-skiing-snowboarding-3/
END:VEVENT
BEGIN:VEVENT
DTSTART;TZID=America/Edmonton:20241207T124500
DTEND;TZID=America/Edmonton:20241207T170000
DTSTAMP:20260423T131131
CREATED:20241127T175933Z
LAST-MODIFIED:20241127T175933Z
UID:46342-1733575500-1733590800@canyonski.ca
SUMMARY:Snow Tube Park Projected Opening Weekend
DESCRIPTION:
URL:https://canyonski.ca/hours/snow-tube-park-projected-opening-weekend/
CATEGORIES:Hours
END:VEVENT
BEGIN:VEVENT
DTSTART;TZID=America/Edmonton:20241123T090000
DTEND;TZID=America/Edmonton:20241123T170000
DTSTAMP:20260423T131131
CREATED:20241114T221913Z
LAST-MODIFIED:20241114T221913Z
UID:46267-1732352400-1732381200@canyonski.ca
SUMMARY:OPEN for skiing & snowboarding
DESCRIPTION:
URL:https://canyonski.ca/hours/open-for-skiing-snowboarding-3/
END:VEVENT
BEGIN:VEVENT
DTSTART;TZID=America/Edmonton:20241207T124500
DTEND;TZID=America/Edmonton:20241207T170000
DTSTAMP:20260423T131131
CREATED:20241127T175933Z
LAST-MODIFIED:20241127T175933Z
UID:46342-1733575500-1733590800@canyonski.ca
SUMMARY:Snow Tube Park Projected Opening Weekend
DESCRIPTION:
URL:https://canyonski.ca/hours/snow-tube-park-projected-opening-weekend/
CATEGORIES:Hours
END:VEVENT
BEGIN:VEVENT
DTSTART;TZID=America/Edmonton:20241204T100000
DTEND;TZID=America/Edmonton:20241204T210000
DTSTAMP:20260423T131131
CREATED:20241110T212423Z
LAST-MODIFIED:20241211T185419Z
UID:46245-1733306400-1733346000@canyonski.ca
SUMMARY:OPEN for skiing & snowboarding
DESCRIPTION:
URL:https://canyonski.ca/hours/open-for-skiing-snowboarding-4/
ATTACH;FMTTYPE=image/jpeg:https://canyonski.ca/wp-content/uploads/2024/11/Canyon027.jpg
END:VEVENT
BEGIN:VEVENT
DTSTART;TZID=America/Edmonton:20241204T100000
DTEND;TZID=America/Edmonton:20241204T210000
DTSTAMP:20260423T131131
CREATED:20241110T212423Z
LAST-MODIFIED:20241211T185419Z
UID:46245-1733306400-1733346000@canyonski.ca
SUMMARY:OPEN for skiing & snowboarding
DESCRIPTION:
URL:https://canyonski.ca/hours/open-for-skiing-snowboarding-4/
ATTACH;FMTTYPE=image/jpeg:https://canyonski.ca/wp-content/uploads/2024/11/Canyon027.jpg
END:VEVENT
BEGIN:VEVENT
DTSTART;TZID=America/Edmonton:20241204T100000
DTEND;TZID=America/Edmonton:20241204T210000
DTSTAMP:20260423T131131
CREATED:20241110T212423Z
LAST-MODIFIED:20241211T185419Z
UID:46245-1733306400-1733346000@canyonski.ca
SUMMARY:OPEN for skiing & snowboarding
DESCRIPTION:
URL:https://canyonski.ca/hours/open-for-skiing-snowboarding-4/
ATTACH;FMTTYPE=image/jpeg:https://canyonski.ca/wp-content/uploads/2024/11/Canyon027.jpg
END:VEVENT
BEGIN:VEVENT
DTSTART;TZID=America/Edmonton:20241213T173000
DTEND;TZID=America/Edmonton:20241213T193000
DTSTAMP:20260423T131131
CREATED:20241127T180156Z
LAST-MODIFIED:20250131T234124Z
UID:46345-1734111000-1734118200@canyonski.ca
SUMMARY:Snow Tube Park OPEN
DESCRIPTION:
URL:https://canyonski.ca/hours/snow-tube-park-open-2/
CATEGORIES:Hours
ATTACH;FMTTYPE=image/jpeg:https://canyonski.ca/wp-content/uploads/2024/11/Canyon347.jpg
END:VEVENT
BEGIN:VEVENT
DTSTART;TZID=America/Edmonton:20241123T090000
DTEND;TZID=America/Edmonton:20241123T170000
DTSTAMP:20260423T131131
CREATED:20241114T221913Z
LAST-MODIFIED:20241114T221913Z
UID:46267-1732352400-1732381200@canyonski.ca
SUMMARY:OPEN for skiing & snowboarding
DESCRIPTION:
URL:https://canyonski.ca/hours/open-for-skiing-snowboarding-3/
END:VEVENT
BEGIN:VEVENT
DTSTART;TZID=America/Edmonton:20241214T124500
DTEND;TZID=America/Edmonton:20241214T170000
DTSTAMP:20260423T131131
CREATED:20241127T175551Z
LAST-MODIFIED:20241127T175551Z
UID:46339-1734180300-1734195600@canyonski.ca
SUMMARY:Snow Tube Park OPEN
DESCRIPTION:
URL:https://canyonski.ca/hours/snow-tube-park-open/
CATEGORIES:Hours
END:VEVENT
BEGIN:VEVENT
DTSTART;TZID=America/Edmonton:20241123T090000
DTEND;TZID=America/Edmonton:20241123T170000
DTSTAMP:20260423T131131
CREATED:20241114T221913Z
LAST-MODIFIED:20241114T221913Z
UID:46267-1732352400-1732381200@canyonski.ca
SUMMARY:OPEN for skiing & snowboarding
DESCRIPTION:
URL:https://canyonski.ca/hours/open-for-skiing-snowboarding-3/
END:VEVENT
BEGIN:VEVENT
DTSTART;TZID=America/Edmonton:20241214T124500
DTEND;TZID=America/Edmonton:20241214T170000
DTSTAMP:20260423T131131
CREATED:20241127T175551Z
LAST-MODIFIED:20241127T175551Z
UID:46339-1734180300-1734195600@canyonski.ca
SUMMARY:Snow Tube Park OPEN
DESCRIPTION:
URL:https://canyonski.ca/hours/snow-tube-park-open/
CATEGORIES:Hours
END:VEVENT
BEGIN:VEVENT
DTSTART;TZID=America/Edmonton:20241204T100000
DTEND;TZID=America/Edmonton:20241204T210000
DTSTAMP:20260423T131131
CREATED:20241110T212423Z
LAST-MODIFIED:20241211T185419Z
UID:46245-1733306400-1733346000@canyonski.ca
SUMMARY:OPEN for skiing & snowboarding
DESCRIPTION:
URL:https://canyonski.ca/hours/open-for-skiing-snowboarding-4/
ATTACH;FMTTYPE=image/jpeg:https://canyonski.ca/wp-content/uploads/2024/11/Canyon027.jpg
END:VEVENT
BEGIN:VEVENT
DTSTART;TZID=America/Edmonton:20241204T100000
DTEND;TZID=America/Edmonton:20241204T210000
DTSTAMP:20260423T131131
CREATED:20241110T212423Z
LAST-MODIFIED:20241211T185419Z
UID:46245-1733306400-1733346000@canyonski.ca
SUMMARY:OPEN for skiing & snowboarding
DESCRIPTION:
URL:https://canyonski.ca/hours/open-for-skiing-snowboarding-4/
ATTACH;FMTTYPE=image/jpeg:https://canyonski.ca/wp-content/uploads/2024/11/Canyon027.jpg
END:VEVENT
BEGIN:VEVENT
DTSTART;TZID=America/Edmonton:20241204T100000
DTEND;TZID=America/Edmonton:20241204T210000
DTSTAMP:20260423T131131
CREATED:20241110T212423Z
LAST-MODIFIED:20241211T185419Z
UID:46245-1733306400-1733346000@canyonski.ca
SUMMARY:OPEN for skiing & snowboarding
DESCRIPTION:
URL:https://canyonski.ca/hours/open-for-skiing-snowboarding-4/
ATTACH;FMTTYPE=image/jpeg:https://canyonski.ca/wp-content/uploads/2024/11/Canyon027.jpg
END:VEVENT
BEGIN:VEVENT
DTSTART;TZID=America/Edmonton:20241213T173000
DTEND;TZID=America/Edmonton:20241213T193000
DTSTAMP:20260423T131131
CREATED:20241127T180156Z
LAST-MODIFIED:20250131T234124Z
UID:46345-1734111000-1734118200@canyonski.ca
SUMMARY:Snow Tube Park OPEN
DESCRIPTION:
URL:https://canyonski.ca/hours/snow-tube-park-open-2/
CATEGORIES:Hours
ATTACH;FMTTYPE=image/jpeg:https://canyonski.ca/wp-content/uploads/2024/11/Canyon347.jpg
END:VEVENT
BEGIN:VEVENT
DTSTART;TZID=America/Edmonton:20241123T090000
DTEND;TZID=America/Edmonton:20241123T170000
DTSTAMP:20260423T131131
CREATED:20241114T221913Z
LAST-MODIFIED:20241114T221913Z
UID:46267-1732352400-1732381200@canyonski.ca
SUMMARY:OPEN for skiing & snowboarding
DESCRIPTION:
URL:https://canyonski.ca/hours/open-for-skiing-snowboarding-3/
END:VEVENT
BEGIN:VEVENT
DTSTART;TZID=America/Edmonton:20241214T124500
DTEND;TZID=America/Edmonton:20241214T170000
DTSTAMP:20260423T131131
CREATED:20241127T175551Z
LAST-MODIFIED:20241127T175551Z
UID:46339-1734180300-1734195600@canyonski.ca
SUMMARY:Snow Tube Park OPEN
DESCRIPTION:
URL:https://canyonski.ca/hours/snow-tube-park-open/
CATEGORIES:Hours
END:VEVENT
BEGIN:VEVENT
DTSTART;TZID=America/Edmonton:20241123T090000
DTEND;TZID=America/Edmonton:20241123T170000
DTSTAMP:20260423T131131
CREATED:20241114T221913Z
LAST-MODIFIED:20241114T221913Z
UID:46267-1732352400-1732381200@canyonski.ca
SUMMARY:OPEN for skiing & snowboarding
DESCRIPTION:
URL:https://canyonski.ca/hours/open-for-skiing-snowboarding-3/
END:VEVENT
BEGIN:VEVENT
DTSTART;TZID=America/Edmonton:20241214T124500
DTEND;TZID=America/Edmonton:20241214T170000
DTSTAMP:20260423T131131
CREATED:20241127T175551Z
LAST-MODIFIED:20241127T175551Z
UID:46339-1734180300-1734195600@canyonski.ca
SUMMARY:Snow Tube Park OPEN
DESCRIPTION:
URL:https://canyonski.ca/hours/snow-tube-park-open/
CATEGORIES:Hours
END:VEVENT
BEGIN:VEVENT
DTSTART;TZID=America/Edmonton:20241223T090000
DTEND;TZID=America/Edmonton:20241223T170000
DTSTAMP:20260423T131131
CREATED:20241120T200506Z
LAST-MODIFIED:20241120T200824Z
UID:46313-1734944400-1734973200@canyonski.ca
SUMMARY:OPEN for skiing & snowboarding
DESCRIPTION:
URL:https://canyonski.ca/hours/open-for-skiing-snowboarding-14/
CATEGORIES:Hours
END:VEVENT
BEGIN:VEVENT
DTSTART;TZID=America/Edmonton:20241223T124500
DTEND;TZID=America/Edmonton:20241223T170000
DTSTAMP:20260423T131131
CREATED:20241129T185405Z
LAST-MODIFIED:20241129T185635Z
UID:46369-1734957900-1734973200@canyonski.ca
SUMMARY:Snow Tube Park Open
DESCRIPTION:
URL:https://canyonski.ca/hours/snow-tube-park-open-5/
CATEGORIES:Hours
END:VEVENT
BEGIN:VEVENT
DTSTART;TZID=America/Edmonton:20241224T090000
DTEND;TZID=America/Edmonton:20241224T160000
DTSTAMP:20260423T131131
CREATED:20241129T185915Z
LAST-MODIFIED:20241129T185917Z
UID:46374-1735030800-1735056000@canyonski.ca
SUMMARY:OPEN for skiing & snowboarding
DESCRIPTION:
URL:https://canyonski.ca/hours/open-for-skiing-snowboarding-14-2/
CATEGORIES:Hours
END:VEVENT
BEGIN:VEVENT
DTSTART;TZID=America/Edmonton:20241224T124500
DTEND;TZID=America/Edmonton:20241224T144500
DTSTAMP:20260423T131131
CREATED:20241129T185751Z
LAST-MODIFIED:20241129T185754Z
UID:46372-1735044300-1735051500@canyonski.ca
SUMMARY:Snow Tube Park Open
DESCRIPTION:
URL:https://canyonski.ca/hours/snow-tube-park-open-5-2/
CATEGORIES:Hours
END:VEVENT
BEGIN:VEVENT
DTSTART;VALUE=DATE:20241225
DTEND;VALUE=DATE:20241226
DTSTAMP:20260423T131131
CREATED:20241120T191856Z
LAST-MODIFIED:20241120T193209Z
UID:46294-1735084800-1735171199@canyonski.ca
SUMMARY:Closed for Christmas\, Happy Holidays!
DESCRIPTION:
URL:https://canyonski.ca/hours/open-for-skiing-snowboarding-6/
END:VEVENT
BEGIN:VEVENT
DTSTART;TZID=America/Edmonton:20241226T090000
DTEND;TZID=America/Edmonton:20241226T170000
DTSTAMP:20260423T131131
CREATED:20241120T191946Z
LAST-MODIFIED:20241120T193242Z
UID:46295-1735203600-1735232400@canyonski.ca
SUMMARY:OPEN for skiing & snowboarding
DESCRIPTION:
URL:https://canyonski.ca/hours/open-for-skiing-snowboarding-7/
CATEGORIES:Hours
END:VEVENT
END:VCALENDAR