BEGIN:VCALENDAR
VERSION:2.0
PRODID:-//Canyon Ski Resort - ECPv6.15.17.1//NONSGML v1.0//EN
CALSCALE:GREGORIAN
METHOD:PUBLISH
X-ORIGINAL-URL:https://canyonski.ca
X-WR-CALDESC:Events for Canyon Ski Resort
REFRESH-INTERVAL;VALUE=DURATION:PT1H
X-Robots-Tag:noindex
X-PUBLISHED-TTL:PT1H
BEGIN:VTIMEZONE
TZID:America/Edmonton
BEGIN:DAYLIGHT
TZOFFSETFROM:-0700
TZOFFSETTO:-0600
TZNAME:MDT
DTSTART:20230312T090000
END:DAYLIGHT
BEGIN:STANDARD
TZOFFSETFROM:-0600
TZOFFSETTO:-0700
TZNAME:MST
DTSTART:20231105T080000
END:STANDARD
BEGIN:DAYLIGHT
TZOFFSETFROM:-0700
TZOFFSETTO:-0600
TZNAME:MDT
DTSTART:20240310T090000
END:DAYLIGHT
BEGIN:STANDARD
TZOFFSETFROM:-0600
TZOFFSETTO:-0700
TZNAME:MST
DTSTART:20241103T080000
END:STANDARD
BEGIN:DAYLIGHT
TZOFFSETFROM:-0700
TZOFFSETTO:-0600
TZNAME:MDT
DTSTART:20250309T090000
END:DAYLIGHT
BEGIN:STANDARD
TZOFFSETFROM:-0600
TZOFFSETTO:-0700
TZNAME:MST
DTSTART:20251102T080000
END:STANDARD
END:VTIMEZONE
BEGIN:VEVENT
DTSTART;TZID=America/Edmonton:20240801T100000
DTEND;TZID=America/Edmonton:20240801T180000
DTSTAMP:20260423T175551
CREATED:20240509T201914Z
LAST-MODIFIED:20240509T201914Z
UID:11499-1722506400-1722535200@canyonski.ca
SUMMARY:Canyon Coaster Open
DESCRIPTION:
URL:https://canyonski.ca/hours/canyon-coaster-open-128/
CATEGORIES:Hours
END:VEVENT
BEGIN:VEVENT
DTSTART;TZID=America/Edmonton:20240801T110000
DTEND;TZID=America/Edmonton:20240801T170000
DTSTAMP:20260423T175551
CREATED:20240509T215842Z
LAST-MODIFIED:20240627T175650Z
UID:11652-1722510000-1722531600@canyonski.ca
SUMMARY:Bungee Trampoline & Tube Park Open
DESCRIPTION:
URL:https://canyonski.ca/hours/tubing-slide-open-36/
CATEGORIES:Hours
END:VEVENT
BEGIN:VEVENT
DTSTART;TZID=America/Edmonton:20240801T110000
DTEND;TZID=America/Edmonton:20240801T170000
DTSTAMP:20260423T175551
CREATED:20240707T195755Z
LAST-MODIFIED:20240712T160151Z
UID:12577-1722510000-1722531600@canyonski.ca
SUMMARY:Zipline\, Aerial & Net Park OPEN
DESCRIPTION:
URL:https://canyonski.ca/hours/aerial-net-park-open-25/
END:VEVENT
BEGIN:VEVENT
DTSTART;TZID=America/Edmonton:20240802T100000
DTEND;TZID=America/Edmonton:20240802T180000
DTSTAMP:20260423T175551
CREATED:20240509T202626Z
LAST-MODIFIED:20240509T202626Z
UID:11501-1722592800-1722621600@canyonski.ca
SUMMARY:Canyon Coaster Open
DESCRIPTION:
URL:https://canyonski.ca/hours/canyon-coaster-open-149/
CATEGORIES:Hours
END:VEVENT
BEGIN:VEVENT
DTSTART;TZID=America/Edmonton:20240802T110000
DTEND;TZID=America/Edmonton:20240802T170000
DTSTAMP:20260423T175551
CREATED:20240509T215904Z
LAST-MODIFIED:20240627T175714Z
UID:11654-1722596400-1722618000@canyonski.ca
SUMMARY:Bungee Trampoline & Tube Park Open
DESCRIPTION:
URL:https://canyonski.ca/hours/tubing-slide-open-37/
CATEGORIES:Hours
END:VEVENT
BEGIN:VEVENT
DTSTART;TZID=America/Edmonton:20240802T110000
DTEND;TZID=America/Edmonton:20240802T170000
DTSTAMP:20260423T175551
CREATED:20240707T195826Z
LAST-MODIFIED:20240712T160147Z
UID:12579-1722596400-1722618000@canyonski.ca
SUMMARY:Zipline\, Aerial & Net Park OPEN
DESCRIPTION:
URL:https://canyonski.ca/hours/aerial-net-park-open-26/
END:VEVENT
BEGIN:VEVENT
DTSTART;TZID=America/Edmonton:20240803T100000
DTEND;TZID=America/Edmonton:20240803T180000
DTSTAMP:20260423T175551
CREATED:20240509T202711Z
LAST-MODIFIED:20240509T202711Z
UID:11503-1722679200-1722708000@canyonski.ca
SUMMARY:Canyon Coaster Open
DESCRIPTION:
URL:https://canyonski.ca/hours/canyon-coaster-open-150/
CATEGORIES:Hours
END:VEVENT
BEGIN:VEVENT
DTSTART;TZID=America/Edmonton:20240803T110000
DTEND;TZID=America/Edmonton:20240803T170000
DTSTAMP:20260423T175551
CREATED:20240509T215926Z
LAST-MODIFIED:20240627T175725Z
UID:11656-1722682800-1722704400@canyonski.ca
SUMMARY:Bungee Trampoline & Tube Park Open
DESCRIPTION:
URL:https://canyonski.ca/hours/tubing-slide-open-38/
CATEGORIES:Hours
END:VEVENT
BEGIN:VEVENT
DTSTART;TZID=America/Edmonton:20240803T110000
DTEND;TZID=America/Edmonton:20240803T170000
DTSTAMP:20260423T175551
CREATED:20240707T195943Z
LAST-MODIFIED:20240712T160043Z
UID:12581-1722682800-1722704400@canyonski.ca
SUMMARY:Zipline\, Aerial & Net Park OPEN
DESCRIPTION:
URL:https://canyonski.ca/hours/aerial-net-park-open-27/
END:VEVENT
BEGIN:VEVENT
DTSTART;TZID=America/Edmonton:20240804T100000
DTEND;TZID=America/Edmonton:20240804T180000
DTSTAMP:20260423T175551
CREATED:20240509T202755Z
LAST-MODIFIED:20240509T202755Z
UID:11505-1722765600-1722794400@canyonski.ca
SUMMARY:Canyon Coaster Open
DESCRIPTION:
URL:https://canyonski.ca/hours/canyon-coaster-open-151/
CATEGORIES:Hours
END:VEVENT
BEGIN:VEVENT
DTSTART;TZID=America/Edmonton:20240804T110000
DTEND;TZID=America/Edmonton:20240804T170000
DTSTAMP:20260423T175551
CREATED:20240509T220021Z
LAST-MODIFIED:20240627T184237Z
UID:11658-1722769200-1722790800@canyonski.ca
SUMMARY:Bungee Trampoline & Tube Park Open
DESCRIPTION:
URL:https://canyonski.ca/hours/tubing-slide-open-39/
CATEGORIES:Hours
END:VEVENT
BEGIN:VEVENT
DTSTART;TZID=America/Edmonton:20240804T110000
DTEND;TZID=America/Edmonton:20240804T170000
DTSTAMP:20260423T175551
CREATED:20240707T200051Z
LAST-MODIFIED:20240712T160038Z
UID:12583-1722769200-1722790800@canyonski.ca
SUMMARY:Zipline\, Aerial & Net Park OPEN
DESCRIPTION:
URL:https://canyonski.ca/hours/aerial-net-park-open-28/
END:VEVENT
BEGIN:VEVENT
DTSTART;TZID=America/Edmonton:20240805T100000
DTEND;TZID=America/Edmonton:20240805T180000
DTSTAMP:20260423T175551
CREATED:20240509T202825Z
LAST-MODIFIED:20240509T202825Z
UID:11507-1722852000-1722880800@canyonski.ca
SUMMARY:Canyon Coaster Open
DESCRIPTION:
URL:https://canyonski.ca/hours/canyon-coaster-open-152/
CATEGORIES:Hours
END:VEVENT
BEGIN:VEVENT
DTSTART;TZID=America/Edmonton:20240805T110000
DTEND;TZID=America/Edmonton:20240805T170000
DTSTAMP:20260423T175551
CREATED:20240509T220049Z
LAST-MODIFIED:20240627T184250Z
UID:11660-1722855600-1722877200@canyonski.ca
SUMMARY:Bungee Trampoline & Tube Park Open
DESCRIPTION:
URL:https://canyonski.ca/hours/tubing-slide-open-40/
CATEGORIES:Hours
END:VEVENT
BEGIN:VEVENT
DTSTART;TZID=America/Edmonton:20240805T110000
DTEND;TZID=America/Edmonton:20240805T170000
DTSTAMP:20260423T175551
CREATED:20240707T200113Z
LAST-MODIFIED:20240712T160004Z
UID:12585-1722855600-1722877200@canyonski.ca
SUMMARY:Zipline\, Aerial & Net Park OPEN
DESCRIPTION:
URL:https://canyonski.ca/hours/aerial-net-park-open-29/
END:VEVENT
BEGIN:VEVENT
DTSTART;TZID=America/Edmonton:20240806T100000
DTEND;TZID=America/Edmonton:20240806T160000
DTSTAMP:20260423T175551
CREATED:20240509T202856Z
LAST-MODIFIED:20240806T194207Z
UID:11509-1722938400-1722960000@canyonski.ca
SUMMARY:Canyon Coaster Open
DESCRIPTION:
URL:https://canyonski.ca/hours/canyon-coaster-open-153/
CATEGORIES:Hours
END:VEVENT
BEGIN:VEVENT
DTSTART;TZID=America/Edmonton:20240806T110000
DTEND;TZID=America/Edmonton:20240806T170000
DTSTAMP:20260423T175551
CREATED:20240509T220122Z
LAST-MODIFIED:20240806T194057Z
UID:11662-1722942000-1722963600@canyonski.ca
SUMMARY:Bungee Trampoline & Tube Park CLOSED
DESCRIPTION:
URL:https://canyonski.ca/hours/tubing-slide-open-41/
CATEGORIES:Hours
END:VEVENT
BEGIN:VEVENT
DTSTART;TZID=America/Edmonton:20240806T110000
DTEND;TZID=America/Edmonton:20240806T170000
DTSTAMP:20260423T175551
CREATED:20240707T200240Z
LAST-MODIFIED:20240712T155954Z
UID:12587-1722942000-1722963600@canyonski.ca
SUMMARY:Zipline\, Aerial & Net Park OPEN
DESCRIPTION:
URL:https://canyonski.ca/hours/aerial-net-park-open-30/
END:VEVENT
BEGIN:VEVENT
DTSTART;VALUE=DATE:20240807
DTEND;VALUE=DATE:20240808
DTSTAMP:20260423T175551
CREATED:20240509T202931Z
LAST-MODIFIED:20240719T163202Z
UID:11511-1722988800-1723075199@canyonski.ca
SUMMARY:CLOSED
DESCRIPTION:
URL:https://canyonski.ca/hours/canyon-coaster-open-154/
CATEGORIES:Hours
END:VEVENT
BEGIN:VEVENT
DTSTART;TZID=America/Edmonton:20240808T100000
DTEND;TZID=America/Edmonton:20240808T180000
DTSTAMP:20260423T175551
CREATED:20240509T202959Z
LAST-MODIFIED:20240509T202959Z
UID:11513-1723111200-1723140000@canyonski.ca
SUMMARY:Canyon Coaster Open
DESCRIPTION:
URL:https://canyonski.ca/hours/canyon-coaster-open-155/
CATEGORIES:Hours
END:VEVENT
BEGIN:VEVENT
DTSTART;TZID=America/Edmonton:20240808T110000
DTEND;TZID=America/Edmonton:20240808T170000
DTSTAMP:20260423T175551
CREATED:20240509T220216Z
LAST-MODIFIED:20240627T184146Z
UID:11666-1723114800-1723136400@canyonski.ca
SUMMARY:Bungee Trampoline & Tube Park Open
DESCRIPTION:
URL:https://canyonski.ca/hours/tubing-slide-open-43/
CATEGORIES:Hours
END:VEVENT
BEGIN:VEVENT
DTSTART;TZID=America/Edmonton:20240808T110000
DTEND;TZID=America/Edmonton:20240808T170000
DTSTAMP:20260423T175551
CREATED:20240707T200424Z
LAST-MODIFIED:20240712T155946Z
UID:12591-1723114800-1723136400@canyonski.ca
SUMMARY:Zipline\, Aerial & Net Park OPEN
DESCRIPTION:
URL:https://canyonski.ca/hours/aerial-net-park-open-32/
END:VEVENT
BEGIN:VEVENT
DTSTART;TZID=America/Edmonton:20240809T100000
DTEND;TZID=America/Edmonton:20240809T180000
DTSTAMP:20260423T175551
CREATED:20240509T203038Z
LAST-MODIFIED:20240509T203038Z
UID:11515-1723197600-1723226400@canyonski.ca
SUMMARY:Canyon Coaster Open
DESCRIPTION:
URL:https://canyonski.ca/hours/canyon-coaster-open-156/
CATEGORIES:Hours
END:VEVENT
BEGIN:VEVENT
DTSTART;TZID=America/Edmonton:20240809T110000
DTEND;TZID=America/Edmonton:20240809T170000
DTSTAMP:20260423T175551
CREATED:20240509T220250Z
LAST-MODIFIED:20240627T184135Z
UID:11668-1723201200-1723222800@canyonski.ca
SUMMARY:Bungee Trampoline & Tube Park Open
DESCRIPTION:
URL:https://canyonski.ca/hours/tubing-slide-open-44/
CATEGORIES:Hours
END:VEVENT
BEGIN:VEVENT
DTSTART;TZID=America/Edmonton:20240809T110000
DTEND;TZID=America/Edmonton:20240809T170000
DTSTAMP:20260423T175551
CREATED:20240707T200442Z
LAST-MODIFIED:20240712T155935Z
UID:12593-1723201200-1723222800@canyonski.ca
SUMMARY:Zipline\, Aerial & Net Park OPEN
DESCRIPTION:
URL:https://canyonski.ca/hours/aerial-net-park-open-33/
END:VEVENT
BEGIN:VEVENT
DTSTART;TZID=America/Edmonton:20240810T100000
DTEND;TZID=America/Edmonton:20240810T180000
DTSTAMP:20260423T175551
CREATED:20240509T203220Z
LAST-MODIFIED:20240509T203220Z
UID:11517-1723284000-1723312800@canyonski.ca
SUMMARY:Canyon Coaster Open
DESCRIPTION:
URL:https://canyonski.ca/hours/canyon-coaster-open-157/
CATEGORIES:Hours
END:VEVENT
BEGIN:VEVENT
DTSTART;TZID=America/Edmonton:20240810T110000
DTEND;TZID=America/Edmonton:20240810T170000
DTSTAMP:20260423T175551
CREATED:20240509T220341Z
LAST-MODIFIED:20240627T184121Z
UID:11670-1723287600-1723309200@canyonski.ca
SUMMARY:Bungee Trampoline & Tube Park Open
DESCRIPTION:
URL:https://canyonski.ca/hours/tubing-slide-open-45/
CATEGORIES:Hours
END:VEVENT
BEGIN:VEVENT
DTSTART;TZID=America/Edmonton:20240810T110000
DTEND;TZID=America/Edmonton:20240810T170000
DTSTAMP:20260423T175551
CREATED:20240707T200557Z
LAST-MODIFIED:20240712T155902Z
UID:12595-1723287600-1723309200@canyonski.ca
SUMMARY:Zipline\, Aerial & Net Park OPEN
DESCRIPTION:
URL:https://canyonski.ca/hours/aerial-net-park-open-34/
END:VEVENT
BEGIN:VEVENT
DTSTART;TZID=America/Edmonton:20240811T100000
DTEND;TZID=America/Edmonton:20240811T180000
DTSTAMP:20260423T175551
CREATED:20240509T203300Z
LAST-MODIFIED:20240509T203300Z
UID:11519-1723370400-1723399200@canyonski.ca
SUMMARY:Canyon Coaster Open
DESCRIPTION:
URL:https://canyonski.ca/hours/canyon-coaster-open-158/
CATEGORIES:Hours
END:VEVENT
BEGIN:VEVENT
DTSTART;TZID=America/Edmonton:20240811T110000
DTEND;TZID=America/Edmonton:20240811T170000
DTSTAMP:20260423T175551
CREATED:20240509T220422Z
LAST-MODIFIED:20240627T184047Z
UID:11672-1723374000-1723395600@canyonski.ca
SUMMARY:Bungee Trampoline & Tube Park Open
DESCRIPTION:
URL:https://canyonski.ca/hours/tubing-slide-open-46/
CATEGORIES:Hours
END:VEVENT
END:VCALENDAR