BEGIN:VCALENDAR
VERSION:2.0
PRODID:-//Canyon Ski Resort - ECPv6.15.17.1//NONSGML v1.0//EN
CALSCALE:GREGORIAN
METHOD:PUBLISH
X-ORIGINAL-URL:https://canyonski.ca
X-WR-CALDESC:Events for Canyon Ski Resort
REFRESH-INTERVAL;VALUE=DURATION:PT1H
X-Robots-Tag:noindex
X-PUBLISHED-TTL:PT1H
BEGIN:VTIMEZONE
TZID:America/Edmonton
BEGIN:DAYLIGHT
TZOFFSETFROM:-0700
TZOFFSETTO:-0600
TZNAME:MDT
DTSTART:20230312T090000
END:DAYLIGHT
BEGIN:STANDARD
TZOFFSETFROM:-0600
TZOFFSETTO:-0700
TZNAME:MST
DTSTART:20231105T080000
END:STANDARD
BEGIN:DAYLIGHT
TZOFFSETFROM:-0700
TZOFFSETTO:-0600
TZNAME:MDT
DTSTART:20240310T090000
END:DAYLIGHT
BEGIN:STANDARD
TZOFFSETFROM:-0600
TZOFFSETTO:-0700
TZNAME:MST
DTSTART:20241103T080000
END:STANDARD
BEGIN:DAYLIGHT
TZOFFSETFROM:-0700
TZOFFSETTO:-0600
TZNAME:MDT
DTSTART:20250309T090000
END:DAYLIGHT
BEGIN:STANDARD
TZOFFSETFROM:-0600
TZOFFSETTO:-0700
TZNAME:MST
DTSTART:20251102T080000
END:STANDARD
END:VTIMEZONE
BEGIN:VEVENT
DTSTART;TZID=America/Edmonton:20240701T100000
DTEND;TZID=America/Edmonton:20240701T180000
DTSTAMP:20260423T192359
CREATED:20240509T154919Z
LAST-MODIFIED:20240509T154919Z
UID:11431-1719828000-1719856800@canyonski.ca
SUMMARY:Canyon Coaster Open
DESCRIPTION:
URL:https://canyonski.ca/hours/canyon-coaster-open-117/
CATEGORIES:Hours
END:VEVENT
BEGIN:VEVENT
DTSTART;TZID=America/Edmonton:20240701T110000
DTEND;TZID=America/Edmonton:20240701T170000
DTSTAMP:20260423T192359
CREATED:20240509T213359Z
LAST-MODIFIED:20240627T174357Z
UID:11582-1719831600-1719853200@canyonski.ca
SUMMARY:Bungee Trampoline & Tube Park Open
DESCRIPTION:
URL:https://canyonski.ca/hours/tubing-slide-open-5/
CATEGORIES:Hours
END:VEVENT
BEGIN:VEVENT
DTSTART;TZID=America/Edmonton:20240702T100000
DTEND;TZID=America/Edmonton:20240702T180000
DTSTAMP:20260423T192359
CREATED:20240509T155139Z
LAST-MODIFIED:20240509T155139Z
UID:11433-1719914400-1719943200@canyonski.ca
SUMMARY:Canyon Coaster Open
DESCRIPTION:
URL:https://canyonski.ca/hours/canyon-coaster-open-118/
CATEGORIES:Hours
END:VEVENT
BEGIN:VEVENT
DTSTART;TZID=America/Edmonton:20240702T110000
DTEND;TZID=America/Edmonton:20240702T170000
DTSTAMP:20260423T192359
CREATED:20240509T213518Z
LAST-MODIFIED:20240627T174416Z
UID:11584-1719918000-1719939600@canyonski.ca
SUMMARY:Bungee Trampoline & Tube Park Open
DESCRIPTION:
URL:https://canyonski.ca/hours/tubing-slide-open-6/
CATEGORIES:Hours
END:VEVENT
BEGIN:VEVENT
DTSTART;VALUE=DATE:20240703
DTEND;VALUE=DATE:20240704
DTSTAMP:20260423T192359
CREATED:20240509T213551Z
LAST-MODIFIED:20240703T164018Z
UID:11586-1719964800-1720051199@canyonski.ca
SUMMARY:Bungee Trampoline & Tube Park CLOSED
DESCRIPTION:
URL:https://canyonski.ca/hours/tubing-slide-open-7/
CATEGORIES:Hours
END:VEVENT
BEGIN:VEVENT
DTSTART;TZID=America/Edmonton:20240703T100000
DTEND;TZID=America/Edmonton:20240703T150000
DTSTAMP:20260423T192359
CREATED:20240509T155246Z
LAST-MODIFIED:20240703T183907Z
UID:11435-1720000800-1720018800@canyonski.ca
SUMMARY:Canyon Coaster Open
DESCRIPTION:
URL:https://canyonski.ca/hours/canyon-coaster-open-119/
CATEGORIES:Hours
END:VEVENT
BEGIN:VEVENT
DTSTART;TZID=America/Edmonton:20240704T100000
DTEND;TZID=America/Edmonton:20240704T180000
DTSTAMP:20260423T192359
CREATED:20240509T155431Z
LAST-MODIFIED:20240509T155431Z
UID:11439-1720087200-1720116000@canyonski.ca
SUMMARY:Canyon Coaster Open
DESCRIPTION:
URL:https://canyonski.ca/hours/canyon-coaster-open-121/
CATEGORIES:Hours
END:VEVENT
BEGIN:VEVENT
DTSTART;TZID=America/Edmonton:20240704T110000
DTEND;TZID=America/Edmonton:20240704T170000
DTSTAMP:20260423T192359
CREATED:20240509T213621Z
LAST-MODIFIED:20240627T174454Z
UID:11588-1720090800-1720112400@canyonski.ca
SUMMARY:Bungee Trampoline & Tube Park Open
DESCRIPTION:
URL:https://canyonski.ca/hours/tubing-slide-open-8/
CATEGORIES:Hours
END:VEVENT
BEGIN:VEVENT
DTSTART;TZID=America/Edmonton:20240705T100000
DTEND;TZID=America/Edmonton:20240705T180000
DTSTAMP:20260423T192359
CREATED:20240509T183205Z
LAST-MODIFIED:20240509T183205Z
UID:11441-1720173600-1720202400@canyonski.ca
SUMMARY:Canyon Coaster Open
DESCRIPTION:
URL:https://canyonski.ca/hours/canyon-coaster-open-122/
CATEGORIES:Hours
END:VEVENT
BEGIN:VEVENT
DTSTART;TZID=America/Edmonton:20240705T110000
DTEND;TZID=America/Edmonton:20240705T170000
DTSTAMP:20260423T192359
CREATED:20240509T213931Z
LAST-MODIFIED:20240627T174528Z
UID:11590-1720177200-1720198800@canyonski.ca
SUMMARY:Bungee Trampoline & Tube Park Open
DESCRIPTION:
URL:https://canyonski.ca/hours/tubing-slide-open-9/
CATEGORIES:Hours
END:VEVENT
BEGIN:VEVENT
DTSTART;TZID=America/Edmonton:20240706T100000
DTEND;TZID=America/Edmonton:20240706T180000
DTSTAMP:20260423T192359
CREATED:20240509T183503Z
LAST-MODIFIED:20240509T183503Z
UID:11444-1720260000-1720288800@canyonski.ca
SUMMARY:Canyon Coaster Open
DESCRIPTION:
URL:https://canyonski.ca/hours/canyon-coaster-open-123/
CATEGORIES:Hours
END:VEVENT
BEGIN:VEVENT
DTSTART;TZID=America/Edmonton:20240706T110000
DTEND;TZID=America/Edmonton:20240706T170000
DTSTAMP:20260423T192359
CREATED:20240509T213958Z
LAST-MODIFIED:20240627T174543Z
UID:11592-1720263600-1720285200@canyonski.ca
SUMMARY:Bungee Trampoline & Tube Park Open
DESCRIPTION:
URL:https://canyonski.ca/hours/tubing-slide-open-10/
CATEGORIES:Hours
END:VEVENT
BEGIN:VEVENT
DTSTART;TZID=America/Edmonton:20240707T100000
DTEND;TZID=America/Edmonton:20240707T180000
DTSTAMP:20260423T192359
CREATED:20240509T183548Z
LAST-MODIFIED:20240509T183936Z
UID:11446-1720346400-1720375200@canyonski.ca
SUMMARY:Canyon Coaster Open
DESCRIPTION:
URL:https://canyonski.ca/hours/canyon-coaster-open-124/
CATEGORIES:Hours
END:VEVENT
BEGIN:VEVENT
DTSTART;TZID=America/Edmonton:20240707T110000
DTEND;TZID=America/Edmonton:20240707T170000
DTSTAMP:20260423T192359
CREATED:20240509T214026Z
LAST-MODIFIED:20240627T174558Z
UID:11597-1720350000-1720371600@canyonski.ca
SUMMARY:Bungee Trampoline & Tube Park Open
DESCRIPTION:
URL:https://canyonski.ca/hours/tubing-slide-open-11/
CATEGORIES:Hours
END:VEVENT
BEGIN:VEVENT
DTSTART;TZID=America/Edmonton:20240708T100000
DTEND;TZID=America/Edmonton:20240708T180000
DTSTAMP:20260423T192359
CREATED:20240509T183632Z
LAST-MODIFIED:20240509T183632Z
UID:11448-1720432800-1720461600@canyonski.ca
SUMMARY:Canyon Coaster Open
DESCRIPTION:
URL:https://canyonski.ca/hours/canyon-coaster-open-125/
CATEGORIES:Hours
END:VEVENT
BEGIN:VEVENT
DTSTART;TZID=America/Edmonton:20240708T110000
DTEND;TZID=America/Edmonton:20240708T170000
DTSTAMP:20260423T192359
CREATED:20240509T214056Z
LAST-MODIFIED:20240627T174615Z
UID:11601-1720436400-1720458000@canyonski.ca
SUMMARY:Bungee Trampoline & Tube Park Open
DESCRIPTION:
URL:https://canyonski.ca/hours/tubing-slide-open-12/
CATEGORIES:Hours
END:VEVENT
BEGIN:VEVENT
DTSTART;TZID=America/Edmonton:20240708T110000
DTEND;TZID=America/Edmonton:20240708T170000
DTSTAMP:20260423T192359
CREATED:20240707T162036Z
LAST-MODIFIED:20240707T162036Z
UID:12509-1720436400-1720458000@canyonski.ca
SUMMARY:Aerial & Net Park OPEN
DESCRIPTION:
URL:https://canyonski.ca/hours/aerial-net-park-open/
CATEGORIES:Hours
END:VEVENT
BEGIN:VEVENT
DTSTART;TZID=America/Edmonton:20240709T100000
DTEND;TZID=America/Edmonton:20240709T180000
DTSTAMP:20260423T192359
CREATED:20240509T183739Z
LAST-MODIFIED:20240509T183739Z
UID:11450-1720519200-1720548000@canyonski.ca
SUMMARY:Canyon Coaster Open
DESCRIPTION:
URL:https://canyonski.ca/hours/canyon-coaster-open-126/
CATEGORIES:Hours
END:VEVENT
BEGIN:VEVENT
DTSTART;TZID=America/Edmonton:20240709T110000
DTEND;TZID=America/Edmonton:20240709T170000
DTSTAMP:20260423T192359
CREATED:20240509T214128Z
LAST-MODIFIED:20240627T174635Z
UID:11603-1720522800-1720544400@canyonski.ca
SUMMARY:Bungee Trampoline & Tube Park Open
DESCRIPTION:
URL:https://canyonski.ca/hours/tubing-slide-open-13/
CATEGORIES:Hours
END:VEVENT
BEGIN:VEVENT
DTSTART;TZID=America/Edmonton:20240709T110000
DTEND;TZID=America/Edmonton:20240709T170000
DTSTAMP:20260423T192359
CREATED:20240707T162757Z
LAST-MODIFIED:20240707T162757Z
UID:12511-1720522800-1720544400@canyonski.ca
SUMMARY:Aerial & Net Park OPEN
DESCRIPTION:
URL:https://canyonski.ca/hours/aerial-net-park-open-2/
END:VEVENT
BEGIN:VEVENT
DTSTART;TZID=America/Edmonton:20240710T100000
DTEND;TZID=America/Edmonton:20240710T180000
DTSTAMP:20260423T192359
CREATED:20240509T183821Z
LAST-MODIFIED:20240709T233037Z
UID:11452-1720605600-1720634400@canyonski.ca
SUMMARY:Canyon Coaster CLOSED due to extreme heat
DESCRIPTION:
URL:https://canyonski.ca/hours/canyon-coaster-open-127/
CATEGORIES:Hours
END:VEVENT
BEGIN:VEVENT
DTSTART;TZID=America/Edmonton:20240710T110000
DTEND;TZID=America/Edmonton:20240710T170000
DTSTAMP:20260423T192359
CREATED:20240509T214154Z
LAST-MODIFIED:20240709T232955Z
UID:11605-1720609200-1720630800@canyonski.ca
SUMMARY:Bungee Trampoline & Tube Park CLOSED due to extreme heat
DESCRIPTION:
URL:https://canyonski.ca/hours/tubing-slide-open-14/
CATEGORIES:Hours
END:VEVENT
BEGIN:VEVENT
DTSTART;TZID=America/Edmonton:20240710T110000
DTEND;TZID=America/Edmonton:20240710T170000
DTSTAMP:20260423T192359
CREATED:20240707T162821Z
LAST-MODIFIED:20240709T232920Z
UID:12513-1720609200-1720630800@canyonski.ca
SUMMARY:Aerial & Net Park CLOSED due to extreme heat
DESCRIPTION:
URL:https://canyonski.ca/hours/aerial-net-park-open-3/
END:VEVENT
BEGIN:VEVENT
DTSTART;TZID=America/Edmonton:20240711T100000
DTEND;TZID=America/Edmonton:20240711T180000
DTSTAMP:20260423T192359
CREATED:20240509T184012Z
LAST-MODIFIED:20240509T184012Z
UID:11454-1720692000-1720720800@canyonski.ca
SUMMARY:Canyon Coaster Open
DESCRIPTION:
URL:https://canyonski.ca/hours/canyon-coaster-open-120/
CATEGORIES:Hours
END:VEVENT
BEGIN:VEVENT
DTSTART;TZID=America/Edmonton:20240711T110000
DTEND;TZID=America/Edmonton:20240711T170000
DTSTAMP:20260423T192359
CREATED:20240509T214226Z
LAST-MODIFIED:20240627T174721Z
UID:11607-1720695600-1720717200@canyonski.ca
SUMMARY:Bungee Trampoline & Tube Park Open
DESCRIPTION:
URL:https://canyonski.ca/hours/tubing-slide-open-15/
CATEGORIES:Hours
END:VEVENT
BEGIN:VEVENT
DTSTART;TZID=America/Edmonton:20240711T110000
DTEND;TZID=America/Edmonton:20240711T170000
DTSTAMP:20260423T192359
CREATED:20240707T164509Z
LAST-MODIFIED:20240712T160338Z
UID:12524-1720695600-1720717200@canyonski.ca
SUMMARY:Aerial & Net Park OPEN
DESCRIPTION:
URL:https://canyonski.ca/hours/aerial-net-park-open-4/
END:VEVENT
BEGIN:VEVENT
DTSTART;TZID=America/Edmonton:20240712T100000
DTEND;TZID=America/Edmonton:20240712T180000
DTSTAMP:20260423T192359
CREATED:20240509T195153Z
LAST-MODIFIED:20240509T195153Z
UID:11459-1720778400-1720807200@canyonski.ca
SUMMARY:Canyon Coaster Open
DESCRIPTION:
URL:https://canyonski.ca/hours/canyon-coaster-open-129/
CATEGORIES:Hours
END:VEVENT
BEGIN:VEVENT
DTSTART;TZID=America/Edmonton:20240712T110000
DTEND;TZID=America/Edmonton:20240712T170000
DTSTAMP:20260423T192359
CREATED:20240509T214251Z
LAST-MODIFIED:20240627T174916Z
UID:11609-1720782000-1720803600@canyonski.ca
SUMMARY:Bungee Trampoline & Tube Park Open
DESCRIPTION:
URL:https://canyonski.ca/hours/tubing-slide-open-16/
CATEGORIES:Hours
END:VEVENT
BEGIN:VEVENT
DTSTART;TZID=America/Edmonton:20240712T110000
DTEND;TZID=America/Edmonton:20240712T170000
DTSTAMP:20260423T192359
CREATED:20240707T164530Z
LAST-MODIFIED:20240712T160417Z
UID:12526-1720782000-1720803600@canyonski.ca
SUMMARY:Aerial & Net Park OPEN
DESCRIPTION:
URL:https://canyonski.ca/hours/aerial-net-park-open-5/
END:VEVENT
BEGIN:VEVENT
DTSTART;TZID=America/Edmonton:20240713T100000
DTEND;TZID=America/Edmonton:20240713T180000
DTSTAMP:20260423T192359
CREATED:20240509T195256Z
LAST-MODIFIED:20240509T195256Z
UID:11461-1720864800-1720893600@canyonski.ca
SUMMARY:Canyon Coaster Open
DESCRIPTION:
URL:https://canyonski.ca/hours/canyon-coaster-open-130/
CATEGORIES:Hours
END:VEVENT
END:VCALENDAR