BEGIN:VCALENDAR
VERSION:2.0
PRODID:-//Canyon Ski Resort - ECPv6.15.17.1//NONSGML v1.0//EN
CALSCALE:GREGORIAN
METHOD:PUBLISH
X-WR-CALNAME:Canyon Ski Resort
X-ORIGINAL-URL:https://canyonski.ca
X-WR-CALDESC:Events for Canyon Ski Resort
REFRESH-INTERVAL;VALUE=DURATION:PT1H
X-Robots-Tag:noindex
X-PUBLISHED-TTL:PT1H
BEGIN:VTIMEZONE
TZID:America/Edmonton
BEGIN:DAYLIGHT
TZOFFSETFROM:-0700
TZOFFSETTO:-0600
TZNAME:MDT
DTSTART:20220313T090000
END:DAYLIGHT
BEGIN:STANDARD
TZOFFSETFROM:-0600
TZOFFSETTO:-0700
TZNAME:MST
DTSTART:20221106T080000
END:STANDARD
BEGIN:DAYLIGHT
TZOFFSETFROM:-0700
TZOFFSETTO:-0600
TZNAME:MDT
DTSTART:20230312T090000
END:DAYLIGHT
BEGIN:STANDARD
TZOFFSETFROM:-0600
TZOFFSETTO:-0700
TZNAME:MST
DTSTART:20231105T080000
END:STANDARD
BEGIN:DAYLIGHT
TZOFFSETFROM:-0700
TZOFFSETTO:-0600
TZNAME:MDT
DTSTART:20240310T090000
END:DAYLIGHT
BEGIN:STANDARD
TZOFFSETFROM:-0600
TZOFFSETTO:-0700
TZNAME:MST
DTSTART:20241103T080000
END:STANDARD
BEGIN:DAYLIGHT
TZOFFSETFROM:-0700
TZOFFSETTO:-0600
TZNAME:MDT
DTSTART:20250309T090000
END:DAYLIGHT
BEGIN:STANDARD
TZOFFSETFROM:-0600
TZOFFSETTO:-0700
TZNAME:MST
DTSTART:20251102T080000
END:STANDARD
END:VTIMEZONE
BEGIN:VEVENT
DTSTART;TZID=America/Edmonton:20240101T100000
DTEND;TZID=America/Edmonton:20240101T170000
DTSTAMP:20260424T045444
CREATED:20231123T171550Z
LAST-MODIFIED:20231123T171550Z
UID:10936-1704103200-1704128400@canyonski.ca
SUMMARY:OPEN for Skiing and Snowboarding
DESCRIPTION:
URL:https://canyonski.ca/hours/open-for-skiing-and-snowboarding-86/
CATEGORIES:Hours
END:VEVENT
BEGIN:VEVENT
DTSTART;TZID=America/Edmonton:20240101T124500
DTEND;TZID=America/Edmonton:20240101T170000
DTSTAMP:20260424T045444
CREATED:20231219T220511Z
LAST-MODIFIED:20231219T220511Z
UID:11032-1704113100-1704128400@canyonski.ca
SUMMARY:Tube Park Open
DESCRIPTION:
URL:https://canyonski.ca/hours/tube-park-open-58/
CATEGORIES:Hours
END:VEVENT
BEGIN:VEVENT
DTSTART;TZID=America/Edmonton:20240102T090000
DTEND;TZID=America/Edmonton:20240102T170000
DTSTAMP:20260424T045444
CREATED:20231123T171626Z
LAST-MODIFIED:20231123T171626Z
UID:10938-1704186000-1704214800@canyonski.ca
SUMMARY:OPEN for Skiing and Snowboarding
DESCRIPTION:
URL:https://canyonski.ca/hours/open-for-skiing-and-snowboarding-87/
CATEGORIES:Hours
END:VEVENT
BEGIN:VEVENT
DTSTART;TZID=America/Edmonton:20240103T090000
DTEND;TZID=America/Edmonton:20240103T170000
DTSTAMP:20260424T045444
CREATED:20231123T171711Z
LAST-MODIFIED:20231123T171711Z
UID:10940-1704272400-1704301200@canyonski.ca
SUMMARY:OPEN for Skiing and Snowboarding
DESCRIPTION:
URL:https://canyonski.ca/hours/open-for-skiing-and-snowboarding-88/
CATEGORIES:Hours
END:VEVENT
BEGIN:VEVENT
DTSTART;TZID=America/Edmonton:20240104T090000
DTEND;TZID=America/Edmonton:20240104T170000
DTSTAMP:20260424T045444
CREATED:20231123T171908Z
LAST-MODIFIED:20231123T171908Z
UID:10946-1704358800-1704387600@canyonski.ca
SUMMARY:OPEN for Skiing and Snowboarding
DESCRIPTION:
URL:https://canyonski.ca/hours/open-for-skiing-and-snowboarding-90/
CATEGORIES:Hours
END:VEVENT
BEGIN:VEVENT
DTSTART;TZID=America/Edmonton:20240105T090000
DTEND;TZID=America/Edmonton:20240105T170000
DTSTAMP:20260424T045444
CREATED:20231123T171742Z
LAST-MODIFIED:20231123T171742Z
UID:10942-1704445200-1704474000@canyonski.ca
SUMMARY:OPEN for Skiing and Snowboarding
DESCRIPTION:
URL:https://canyonski.ca/hours/open-for-skiing-and-snowboarding-89/
CATEGORIES:Hours
END:VEVENT
BEGIN:VEVENT
DTSTART;TZID=America/Edmonton:20240106T090000
DTEND;TZID=America/Edmonton:20240106T170000
DTSTAMP:20260424T045444
CREATED:20231123T172131Z
LAST-MODIFIED:20231123T172131Z
UID:10948-1704531600-1704560400@canyonski.ca
SUMMARY:OPEN for Skiing and Snowboarding
DESCRIPTION:
URL:https://canyonski.ca/hours/open-for-skiing-and-snowboarding-91/
CATEGORIES:Hours
END:VEVENT
BEGIN:VEVENT
DTSTART;TZID=America/Edmonton:20240107T090000
DTEND;TZID=America/Edmonton:20240107T170000
DTSTAMP:20260424T045444
CREATED:20240107T165713Z
LAST-MODIFIED:20240107T165713Z
UID:8954-1704618000-1704646800@canyonski.ca
SUMMARY:Open for Skiing and Snowboarding
DESCRIPTION:
URL:https://canyonski.ca/hours/open-for-skiing-and-snowboarding-99/
CATEGORIES:Hours
END:VEVENT
BEGIN:VEVENT
DTSTART;TZID=America/Edmonton:20231217T124500
DTEND;TZID=America/Edmonton:20231217T170000
DTSTAMP:20260424T045444
CREATED:20231214T014648Z
LAST-MODIFIED:20231214T015045Z
UID:11004-1702817100-1702832400@canyonski.ca
SUMMARY:Tube Park Open
DESCRIPTION:
URL:https://canyonski.ca/hours/tube-park-open-43/
CATEGORIES:Hours
END:VEVENT
BEGIN:VEVENT
DTSTART;VALUE=DATE:20240110
DTEND;VALUE=DATE:20240111
DTSTAMP:20260424T045444
CREATED:20231219T221152Z
LAST-MODIFIED:20240109T201226Z
UID:11075-1704844800-1704931199@canyonski.ca
SUMMARY:Closed due to extreme cold
DESCRIPTION:
URL:https://canyonski.ca/hours/open-for-skiing-and-snowboarding-95/
CATEGORIES:Hours
END:VEVENT
BEGIN:VEVENT
DTSTART;VALUE=DATE:20240111
DTEND;VALUE=DATE:20240112
DTSTAMP:20260424T045444
CREATED:20231219T221813Z
LAST-MODIFIED:20240109T201111Z
UID:11086-1704931200-1705017599@canyonski.ca
SUMMARY:Closed due to extreme cold
DESCRIPTION:
URL:https://canyonski.ca/hours/open-for-skiing-and-snowboarding-96/
CATEGORIES:Hours
END:VEVENT
BEGIN:VEVENT
DTSTART;VALUE=DATE:20240112
DTEND;VALUE=DATE:20240113
DTSTAMP:20260424T045444
CREATED:20231219T225420Z
LAST-MODIFIED:20240109T201222Z
UID:11097-1705017600-1705103999@canyonski.ca
SUMMARY:Closed due to extreme cold
DESCRIPTION:
URL:https://canyonski.ca/hours/open-for-skiing-and-snowboarding-97/
CATEGORIES:Hours
END:VEVENT
BEGIN:VEVENT
DTSTART;VALUE=DATE:20240113
DTEND;VALUE=DATE:20240114
DTSTAMP:20260424T045444
CREATED:20231219T220757Z
LAST-MODIFIED:20240110T173232Z
UID:11050-1705104000-1705190399@canyonski.ca
SUMMARY:Closed due to extreme cold
DESCRIPTION:
URL:https://canyonski.ca/hours/open-for-skiing-and-snowboarding-92/
CATEGORIES:Hours
END:VEVENT
BEGIN:VEVENT
DTSTART;VALUE=DATE:20240114
DTEND;VALUE=DATE:20240115
DTSTAMP:20260424T045444
CREATED:20231219T220856Z
LAST-MODIFIED:20240111T200331Z
UID:11061-1705190400-1705276799@canyonski.ca
SUMMARY:Closed due to extreme cold
DESCRIPTION:
URL:https://canyonski.ca/hours/open-for-skiing-and-snowboarding-93/
CATEGORIES:Hours
END:VEVENT
BEGIN:VEVENT
DTSTART;TZID=America/Edmonton:20240117T100000
DTEND;TZID=America/Edmonton:20240117T210000
DTSTAMP:20260424T045444
CREATED:20240109T201440Z
LAST-MODIFIED:20240109T201746Z
UID:11139-1705485600-1705525200@canyonski.ca
SUMMARY:OPEN for Skiing and Snowboarding
DESCRIPTION:
URL:https://canyonski.ca/hours/open-for-skiing-and-snowboarding-100/
CATEGORIES:Hours
END:VEVENT
BEGIN:VEVENT
DTSTART;TZID=America/Edmonton:20240118T100000
DTEND;TZID=America/Edmonton:20240118T210000
DTSTAMP:20260424T045444
CREATED:20240109T201527Z
LAST-MODIFIED:20240118T201241Z
UID:11150-1705572000-1705611600@canyonski.ca
SUMMARY:OPEN for Skiing and Snowboarding
DESCRIPTION:
URL:https://canyonski.ca/hours/open-for-skiing-and-snowboarding-101/
CATEGORIES:Hours
END:VEVENT
BEGIN:VEVENT
DTSTART;VALUE=DATE:20240119
DTEND;VALUE=DATE:20240120
DTSTAMP:20260424T045444
CREATED:20231214T004245Z
LAST-MODIFIED:20240118T200525Z
UID:10985-1705622400-1705708799@canyonski.ca
SUMMARY:Tube Park Closed
DESCRIPTION:
URL:https://canyonski.ca/hours/tube-park-open-25-2024-01-19/
CATEGORIES:Hours
END:VEVENT
BEGIN:VEVENT
DTSTART;TZID=America/Edmonton:20240119T130000
DTEND;TZID=America/Edmonton:20240119T210000
DTSTAMP:20260424T045444
CREATED:20240109T201848Z
LAST-MODIFIED:20240118T201306Z
UID:11168-1705669200-1705698000@canyonski.ca
SUMMARY:OPEN for Skiing and Snowboarding
DESCRIPTION:
URL:https://canyonski.ca/hours/open-for-skiing-and-snowboarding-102/
CATEGORIES:Hours
END:VEVENT
BEGIN:VEVENT
DTSTART;TZID=America/Edmonton:20240120T090000
DTEND;TZID=America/Edmonton:20240120T170000
DTSTAMP:20260424T045444
CREATED:20240110T173327Z
LAST-MODIFIED:20240110T173327Z
UID:11180-1705741200-1705770000@canyonski.ca
SUMMARY:OPEN for Skiing and Snowboarding
DESCRIPTION:
URL:https://canyonski.ca/hours/open-for-skiing-and-snowboarding-103/
END:VEVENT
BEGIN:VEVENT
DTSTART;TZID=America/Edmonton:20240121T090000
DTEND;TZID=America/Edmonton:20240121T170000
DTSTAMP:20260424T045444
CREATED:20240111T200441Z
LAST-MODIFIED:20240111T200441Z
UID:11198-1705827600-1705856400@canyonski.ca
SUMMARY:OPEN for Skiing and Snowboarding
DESCRIPTION:
URL:https://canyonski.ca/hours/open-for-skiing-and-snowboarding-104/
CATEGORIES:Hours
END:VEVENT
BEGIN:VEVENT
DTSTART;TZID=America/Edmonton:20231217T124500
DTEND;TZID=America/Edmonton:20231217T170000
DTSTAMP:20260424T045444
CREATED:20231214T014648Z
LAST-MODIFIED:20231214T015045Z
UID:11004-1702817100-1702832400@canyonski.ca
SUMMARY:Tube Park Open
DESCRIPTION:
URL:https://canyonski.ca/hours/tube-park-open-43/
CATEGORIES:Hours
END:VEVENT
BEGIN:VEVENT
DTSTART;TZID=America/Edmonton:20240117T100000
DTEND;TZID=America/Edmonton:20240117T210000
DTSTAMP:20260424T045444
CREATED:20240109T201440Z
LAST-MODIFIED:20240109T201746Z
UID:11139-1705485600-1705525200@canyonski.ca
SUMMARY:OPEN for Skiing and Snowboarding
DESCRIPTION:
URL:https://canyonski.ca/hours/open-for-skiing-and-snowboarding-100/
CATEGORIES:Hours
END:VEVENT
BEGIN:VEVENT
DTSTART;TZID=America/Edmonton:20240125T100000
DTEND;TZID=America/Edmonton:20240125T210000
DTSTAMP:20260424T045444
CREATED:20240118T201428Z
LAST-MODIFIED:20240118T201428Z
UID:11239-1706176800-1706216400@canyonski.ca
SUMMARY:OPEN for Skiing and Snowboarding
DESCRIPTION:
URL:https://canyonski.ca/hours/open-for-skiing-and-snowboarding-105/
CATEGORIES:Hours
END:VEVENT
BEGIN:VEVENT
DTSTART;TZID=America/Edmonton:20240126T100000
DTEND;TZID=America/Edmonton:20240126T210000
DTSTAMP:20260424T045444
CREATED:20240118T201459Z
LAST-MODIFIED:20240118T201459Z
UID:11249-1706263200-1706302800@canyonski.ca
SUMMARY:OPEN for Skiing and Snowboarding
DESCRIPTION:
URL:https://canyonski.ca/hours/open-for-skiing-and-snowboarding-106/
CATEGORIES:Hours
END:VEVENT
BEGIN:VEVENT
DTSTART;TZID=America/Edmonton:20231217T124500
DTEND;TZID=America/Edmonton:20231217T170000
DTSTAMP:20260424T045444
CREATED:20231214T014648Z
LAST-MODIFIED:20231214T015045Z
UID:11004-1702817100-1702832400@canyonski.ca
SUMMARY:Tube Park Open
DESCRIPTION:
URL:https://canyonski.ca/hours/tube-park-open-43/
CATEGORIES:Hours
END:VEVENT
BEGIN:VEVENT
DTSTART;TZID=America/Edmonton:20240117T100000
DTEND;TZID=America/Edmonton:20240117T210000
DTSTAMP:20260424T045444
CREATED:20240109T201440Z
LAST-MODIFIED:20240109T201746Z
UID:11139-1705485600-1705525200@canyonski.ca
SUMMARY:OPEN for Skiing and Snowboarding
DESCRIPTION:
URL:https://canyonski.ca/hours/open-for-skiing-and-snowboarding-100/
CATEGORIES:Hours
END:VEVENT
END:VCALENDAR