BEGIN:VCALENDAR
VERSION:2.0
PRODID:-//Canyon Ski Resort - ECPv6.15.17.1//NONSGML v1.0//EN
CALSCALE:GREGORIAN
METHOD:PUBLISH
X-WR-CALNAME:Canyon Ski Resort
X-ORIGINAL-URL:https://canyonski.ca
X-WR-CALDESC:Events for Canyon Ski Resort
REFRESH-INTERVAL;VALUE=DURATION:PT1H
X-Robots-Tag:noindex
X-PUBLISHED-TTL:PT1H
BEGIN:VTIMEZONE
TZID:America/Edmonton
BEGIN:DAYLIGHT
TZOFFSETFROM:-0700
TZOFFSETTO:-0600
TZNAME:MDT
DTSTART:20220313T090000
END:DAYLIGHT
BEGIN:STANDARD
TZOFFSETFROM:-0600
TZOFFSETTO:-0700
TZNAME:MST
DTSTART:20221106T080000
END:STANDARD
BEGIN:DAYLIGHT
TZOFFSETFROM:-0700
TZOFFSETTO:-0600
TZNAME:MDT
DTSTART:20230312T090000
END:DAYLIGHT
BEGIN:STANDARD
TZOFFSETFROM:-0600
TZOFFSETTO:-0700
TZNAME:MST
DTSTART:20231105T080000
END:STANDARD
BEGIN:DAYLIGHT
TZOFFSETFROM:-0700
TZOFFSETTO:-0600
TZNAME:MDT
DTSTART:20240310T090000
END:DAYLIGHT
BEGIN:STANDARD
TZOFFSETFROM:-0600
TZOFFSETTO:-0700
TZNAME:MST
DTSTART:20241103T080000
END:STANDARD
END:VTIMEZONE
BEGIN:VEVENT
DTSTART;TZID=America/Edmonton:20230801T100000
DTEND;TZID=America/Edmonton:20230801T190000
DTSTAMP:20260424T122028
CREATED:20230504T212832Z
LAST-MODIFIED:20230504T213106Z
UID:9362-1690884000-1690916400@canyonski.ca
SUMMARY:Canyon Coaster OPEN
DESCRIPTION:
URL:https://canyonski.ca/hours/canyon-coaster-open-52/
CATEGORIES:Hours
END:VEVENT
BEGIN:VEVENT
DTSTART;TZID=America/Edmonton:20230801T110000
DTEND;TZID=America/Edmonton:20230801T180000
DTSTAMP:20260424T122028
CREATED:20230621T195630Z
LAST-MODIFIED:20230621T195630Z
UID:9695-1690887600-1690912800@canyonski.ca
SUMMARY:Summer Tubing OPEN
DESCRIPTION:
URL:https://canyonski.ca/hours/summer-tubing-open-36/
CATEGORIES:Hours
END:VEVENT
BEGIN:VEVENT
DTSTART;TZID=America/Edmonton:20230802T100000
DTEND;TZID=America/Edmonton:20230802T190000
DTSTAMP:20260424T122028
CREATED:20230504T213159Z
LAST-MODIFIED:20230504T213159Z
UID:9365-1690970400-1691002800@canyonski.ca
SUMMARY:Canyon Coaster OPEN
DESCRIPTION:
URL:https://canyonski.ca/hours/canyon-coaster-open-53/
CATEGORIES:Hours
END:VEVENT
BEGIN:VEVENT
DTSTART;TZID=America/Edmonton:20230802T120000
DTEND;TZID=America/Edmonton:20230802T180000
DTSTAMP:20260424T122028
CREATED:20230621T195703Z
LAST-MODIFIED:20230705T225545Z
UID:9697-1690977600-1690999200@canyonski.ca
SUMMARY:Summer Tubing OPEN
DESCRIPTION:
URL:https://canyonski.ca/hours/summer-tubing-open-37/
CATEGORIES:Hours
END:VEVENT
BEGIN:VEVENT
DTSTART;TZID=America/Edmonton:20230803T100000
DTEND;TZID=America/Edmonton:20230803T190000
DTSTAMP:20260424T122028
CREATED:20230504T213227Z
LAST-MODIFIED:20230504T213227Z
UID:9367-1691056800-1691089200@canyonski.ca
SUMMARY:Canyon Coaster OPEN
DESCRIPTION:
URL:https://canyonski.ca/hours/canyon-coaster-open-54/
CATEGORIES:Hours
END:VEVENT
BEGIN:VEVENT
DTSTART;TZID=America/Edmonton:20230803T110000
DTEND;TZID=America/Edmonton:20230803T180000
DTSTAMP:20260424T122028
CREATED:20230621T195741Z
LAST-MODIFIED:20230621T195741Z
UID:9699-1691060400-1691085600@canyonski.ca
SUMMARY:Summer Tubing OPEN
DESCRIPTION:
URL:https://canyonski.ca/hours/summer-tubing-open-38/
CATEGORIES:Hours
END:VEVENT
BEGIN:VEVENT
DTSTART;TZID=America/Edmonton:20230804T100000
DTEND;TZID=America/Edmonton:20230804T190000
DTSTAMP:20260424T122028
CREATED:20230504T213257Z
LAST-MODIFIED:20230504T213257Z
UID:9369-1691143200-1691175600@canyonski.ca
SUMMARY:Canyon Coaster OPEN
DESCRIPTION:
URL:https://canyonski.ca/hours/canyon-coaster-open-55/
CATEGORIES:Hours
END:VEVENT
BEGIN:VEVENT
DTSTART;TZID=America/Edmonton:20230804T110000
DTEND;TZID=America/Edmonton:20230804T180000
DTSTAMP:20260424T122028
CREATED:20230621T195955Z
LAST-MODIFIED:20230621T195955Z
UID:9701-1691146800-1691172000@canyonski.ca
SUMMARY:Summer Tubing OPEN
DESCRIPTION:
URL:https://canyonski.ca/hours/summer-tubing-open-39/
CATEGORIES:Hours
END:VEVENT
BEGIN:VEVENT
DTSTART;TZID=America/Edmonton:20230805T100000
DTEND;TZID=America/Edmonton:20230805T190000
DTSTAMP:20260424T122028
CREATED:20230504T213400Z
LAST-MODIFIED:20230504T213400Z
UID:9371-1691229600-1691262000@canyonski.ca
SUMMARY:Canyon Coaster OPEN
DESCRIPTION:
URL:https://canyonski.ca/hours/canyon-coaster-open-56/
CATEGORIES:Hours
END:VEVENT
BEGIN:VEVENT
DTSTART;TZID=America/Edmonton:20230805T110000
DTEND;TZID=America/Edmonton:20230805T180000
DTSTAMP:20260424T122028
CREATED:20230621T200036Z
LAST-MODIFIED:20230621T200036Z
UID:9703-1691233200-1691258400@canyonski.ca
SUMMARY:Summer Tubing OPEN
DESCRIPTION:
URL:https://canyonski.ca/hours/summer-tubing-open-40/
CATEGORIES:Hours
END:VEVENT
BEGIN:VEVENT
DTSTART;TZID=America/Edmonton:20230806T100000
DTEND;TZID=America/Edmonton:20230806T190000
DTSTAMP:20260424T122028
CREATED:20230504T213923Z
LAST-MODIFIED:20230504T213923Z
UID:9380-1691316000-1691348400@canyonski.ca
SUMMARY:Canyon Coaster OPEN
DESCRIPTION:
URL:https://canyonski.ca/hours/canyon-coaster-open-60/
CATEGORIES:Hours
END:VEVENT
BEGIN:VEVENT
DTSTART;TZID=America/Edmonton:20230806T110000
DTEND;TZID=America/Edmonton:20230806T180000
DTSTAMP:20260424T122028
CREATED:20230621T202507Z
LAST-MODIFIED:20230621T202507Z
UID:9710-1691319600-1691344800@canyonski.ca
SUMMARY:Summer Tubing OPEN
DESCRIPTION:
URL:https://canyonski.ca/hours/summer-tubing-open-43/
CATEGORIES:Hours
END:VEVENT
BEGIN:VEVENT
DTSTART;TZID=America/Edmonton:20230807T100000
DTEND;TZID=America/Edmonton:20230807T190000
DTSTAMP:20260424T122028
CREATED:20230504T213452Z
LAST-MODIFIED:20230504T213452Z
UID:9374-1691402400-1691434800@canyonski.ca
SUMMARY:Canyon Coaster OPEN
DESCRIPTION:
URL:https://canyonski.ca/hours/canyon-coaster-open-57/
CATEGORIES:Hours
END:VEVENT
BEGIN:VEVENT
DTSTART;TZID=America/Edmonton:20230807T110000
DTEND;TZID=America/Edmonton:20230807T180000
DTSTAMP:20260424T122028
CREATED:20230621T202537Z
LAST-MODIFIED:20230621T202537Z
UID:9712-1691406000-1691431200@canyonski.ca
SUMMARY:Summer Tubing OPEN
DESCRIPTION:
URL:https://canyonski.ca/hours/summer-tubing-open-44/
CATEGORIES:Hours
END:VEVENT
BEGIN:VEVENT
DTSTART;TZID=America/Edmonton:20230808T100000
DTEND;TZID=America/Edmonton:20230808T190000
DTSTAMP:20260424T122028
CREATED:20230504T213806Z
LAST-MODIFIED:20230504T213806Z
UID:9376-1691488800-1691521200@canyonski.ca
SUMMARY:Canyon Coaster OPEN
DESCRIPTION:
URL:https://canyonski.ca/hours/canyon-coaster-open-58/
CATEGORIES:Hours
END:VEVENT
BEGIN:VEVENT
DTSTART;TZID=America/Edmonton:20230808T110000
DTEND;TZID=America/Edmonton:20230808T180000
DTSTAMP:20260424T122028
CREATED:20230621T202613Z
LAST-MODIFIED:20230621T202613Z
UID:9714-1691492400-1691517600@canyonski.ca
SUMMARY:Summer Tubing OPEN
DESCRIPTION:
URL:https://canyonski.ca/hours/summer-tubing-open-45/
CATEGORIES:Hours
END:VEVENT
BEGIN:VEVENT
DTSTART;TZID=America/Edmonton:20230809T100000
DTEND;TZID=America/Edmonton:20230809T190000
DTSTAMP:20260424T122028
CREATED:20230504T213844Z
LAST-MODIFIED:20230504T213844Z
UID:9378-1691575200-1691607600@canyonski.ca
SUMMARY:Canyon Coaster OPEN
DESCRIPTION:
URL:https://canyonski.ca/hours/canyon-coaster-open-59/
CATEGORIES:Hours
END:VEVENT
BEGIN:VEVENT
DTSTART;TZID=America/Edmonton:20230809T110000
DTEND;TZID=America/Edmonton:20230809T180000
DTSTAMP:20260424T122028
CREATED:20230621T202720Z
LAST-MODIFIED:20230621T202720Z
UID:9716-1691578800-1691604000@canyonski.ca
SUMMARY:Summer Tubing OPEN
DESCRIPTION:
URL:https://canyonski.ca/hours/summer-tubing-open-46/
CATEGORIES:Hours
END:VEVENT
BEGIN:VEVENT
DTSTART;TZID=America/Edmonton:20230810T100000
DTEND;TZID=America/Edmonton:20230810T190000
DTSTAMP:20260424T122028
CREATED:20230504T214437Z
LAST-MODIFIED:20230504T214437Z
UID:9385-1691661600-1691694000@canyonski.ca
SUMMARY:Canyon Coaster OPEN
DESCRIPTION:
URL:https://canyonski.ca/hours/canyon-coaster-open-61/
CATEGORIES:Hours
END:VEVENT
BEGIN:VEVENT
DTSTART;TZID=America/Edmonton:20230810T110000
DTEND;TZID=America/Edmonton:20230810T180000
DTSTAMP:20260424T122028
CREATED:20230621T202753Z
LAST-MODIFIED:20230810T162355Z
UID:9718-1691665200-1691690400@canyonski.ca
SUMMARY:Summer Tubing CLOSED
DESCRIPTION:
URL:https://canyonski.ca/hours/summer-tubing-open-47/
CATEGORIES:Hours
END:VEVENT
BEGIN:VEVENT
DTSTART;TZID=America/Edmonton:20230811T100000
DTEND;TZID=America/Edmonton:20230811T190000
DTSTAMP:20260424T122028
CREATED:20230504T214500Z
LAST-MODIFIED:20230504T214500Z
UID:9387-1691748000-1691780400@canyonski.ca
SUMMARY:Canyon Coaster OPEN
DESCRIPTION:
URL:https://canyonski.ca/hours/canyon-coaster-open-62/
CATEGORIES:Hours
END:VEVENT
BEGIN:VEVENT
DTSTART;TZID=America/Edmonton:20230811T110000
DTEND;TZID=America/Edmonton:20230811T180000
DTSTAMP:20260424T122028
CREATED:20230621T203214Z
LAST-MODIFIED:20230621T203214Z
UID:9720-1691751600-1691776800@canyonski.ca
SUMMARY:Summer Tubing OPEN
DESCRIPTION:
URL:https://canyonski.ca/hours/summer-tubing-open-48/
CATEGORIES:Hours
END:VEVENT
BEGIN:VEVENT
DTSTART;TZID=America/Edmonton:20230812T100000
DTEND;TZID=America/Edmonton:20230812T190000
DTSTAMP:20260424T122028
CREATED:20230504T214525Z
LAST-MODIFIED:20230504T214525Z
UID:9389-1691834400-1691866800@canyonski.ca
SUMMARY:Canyon Coaster OPEN
DESCRIPTION:
URL:https://canyonski.ca/hours/canyon-coaster-open-63/
CATEGORIES:Hours
END:VEVENT
BEGIN:VEVENT
DTSTART;TZID=America/Edmonton:20230812T110000
DTEND;TZID=America/Edmonton:20230812T180000
DTSTAMP:20260424T122028
CREATED:20230621T203611Z
LAST-MODIFIED:20230621T203611Z
UID:9722-1691838000-1691863200@canyonski.ca
SUMMARY:Summer Tubing OPEN
DESCRIPTION:
URL:https://canyonski.ca/hours/summer-tubing-open-49/
CATEGORIES:Hours
END:VEVENT
BEGIN:VEVENT
DTSTART;TZID=America/Edmonton:20230813T100000
DTEND;TZID=America/Edmonton:20230813T190000
DTSTAMP:20260424T122028
CREATED:20230504T214703Z
LAST-MODIFIED:20230504T214703Z
UID:9393-1691920800-1691953200@canyonski.ca
SUMMARY:Canyon Coaster OPEN
DESCRIPTION:
URL:https://canyonski.ca/hours/canyon-coaster-open-65/
CATEGORIES:Hours
END:VEVENT
BEGIN:VEVENT
DTSTART;TZID=America/Edmonton:20230813T110000
DTEND;TZID=America/Edmonton:20230813T180000
DTSTAMP:20260424T122028
CREATED:20230621T203709Z
LAST-MODIFIED:20230621T203709Z
UID:9724-1691924400-1691949600@canyonski.ca
SUMMARY:Summer Tubing OPEN
DESCRIPTION:
URL:https://canyonski.ca/hours/summer-tubing-open-50/
CATEGORIES:Hours
END:VEVENT
BEGIN:VEVENT
DTSTART;TZID=America/Edmonton:20230814T100000
DTEND;TZID=America/Edmonton:20230814T190000
DTSTAMP:20260424T122028
CREATED:20230504T214630Z
LAST-MODIFIED:20230504T214630Z
UID:9391-1692007200-1692039600@canyonski.ca
SUMMARY:Canyon Coaster OPEN
DESCRIPTION:
URL:https://canyonski.ca/hours/canyon-coaster-open-64/
CATEGORIES:Hours
END:VEVENT
BEGIN:VEVENT
DTSTART;TZID=America/Edmonton:20230814T110000
DTEND;TZID=America/Edmonton:20230814T180000
DTSTAMP:20260424T122028
CREATED:20230621T203809Z
LAST-MODIFIED:20230621T203809Z
UID:9726-1692010800-1692036000@canyonski.ca
SUMMARY:Summer Tubing OPEN
DESCRIPTION:
URL:https://canyonski.ca/hours/summer-tubing-open-51/
CATEGORIES:Hours
END:VEVENT
BEGIN:VEVENT
DTSTART;TZID=America/Edmonton:20230815T100000
DTEND;TZID=America/Edmonton:20230815T190000
DTSTAMP:20260424T122028
CREATED:20230504T214800Z
LAST-MODIFIED:20230504T214800Z
UID:9395-1692093600-1692126000@canyonski.ca
SUMMARY:Canyon Coaster OPEN
DESCRIPTION:
URL:https://canyonski.ca/hours/canyon-coaster-open-66/
CATEGORIES:Hours
END:VEVENT
BEGIN:VEVENT
DTSTART;TZID=America/Edmonton:20230815T110000
DTEND;TZID=America/Edmonton:20230815T180000
DTSTAMP:20260424T122028
CREATED:20230621T203902Z
LAST-MODIFIED:20230621T203902Z
UID:9728-1692097200-1692122400@canyonski.ca
SUMMARY:Summer Tubing OPEN
DESCRIPTION:
URL:https://canyonski.ca/hours/summer-tubing-open-52/
CATEGORIES:Hours
END:VEVENT
END:VCALENDAR