BEGIN:VCALENDAR
VERSION:2.0
PRODID:-//Canyon Ski Resort - ECPv6.15.17.1//NONSGML v1.0//EN
CALSCALE:GREGORIAN
METHOD:PUBLISH
X-ORIGINAL-URL:https://canyonski.ca
X-WR-CALDESC:Events for Canyon Ski Resort
REFRESH-INTERVAL;VALUE=DURATION:PT1H
X-Robots-Tag:noindex
X-PUBLISHED-TTL:PT1H
BEGIN:VTIMEZONE
TZID:America/Edmonton
BEGIN:DAYLIGHT
TZOFFSETFROM:-0700
TZOFFSETTO:-0600
TZNAME:MDT
DTSTART:20220313T090000
END:DAYLIGHT
BEGIN:STANDARD
TZOFFSETFROM:-0600
TZOFFSETTO:-0700
TZNAME:MST
DTSTART:20221106T080000
END:STANDARD
BEGIN:DAYLIGHT
TZOFFSETFROM:-0700
TZOFFSETTO:-0600
TZNAME:MDT
DTSTART:20230312T090000
END:DAYLIGHT
BEGIN:STANDARD
TZOFFSETFROM:-0600
TZOFFSETTO:-0700
TZNAME:MST
DTSTART:20231105T080000
END:STANDARD
BEGIN:DAYLIGHT
TZOFFSETFROM:-0700
TZOFFSETTO:-0600
TZNAME:MDT
DTSTART:20240310T090000
END:DAYLIGHT
BEGIN:STANDARD
TZOFFSETFROM:-0600
TZOFFSETTO:-0700
TZNAME:MST
DTSTART:20241103T080000
END:STANDARD
END:VTIMEZONE
BEGIN:VEVENT
DTSTART;TZID=America/Edmonton:20230520T110000
DTEND;TZID=America/Edmonton:20230520T180000
DTSTAMP:20260424T183116
CREATED:20230504T145700Z
LAST-MODIFIED:20230504T195345Z
UID:9218-1684580400-1684605600@canyonski.ca
SUMMARY:Coaster OPENING Weekend!
DESCRIPTION:
URL:https://canyonski.ca/hours/coaster-opening-weekend/
CATEGORIES:Hours
END:VEVENT
BEGIN:VEVENT
DTSTART;TZID=America/Edmonton:20230521T110000
DTEND;TZID=America/Edmonton:20230521T180000
DTSTAMP:20260424T183116
CREATED:20230504T195726Z
LAST-MODIFIED:20230504T195726Z
UID:9252-1684666800-1684692000@canyonski.ca
SUMMARY:Coaster OPENING Weekend
DESCRIPTION:
URL:https://canyonski.ca/hours/coaster-opening-weekend-2/
CATEGORIES:Hours
END:VEVENT
BEGIN:VEVENT
DTSTART;TZID=America/Edmonton:20230522T110000
DTEND;TZID=America/Edmonton:20230522T180000
DTSTAMP:20260424T183116
CREATED:20230504T195954Z
LAST-MODIFIED:20230504T195954Z
UID:9254-1684753200-1684778400@canyonski.ca
SUMMARY:Coaster OPENING Weekend
DESCRIPTION:
URL:https://canyonski.ca/hours/coaster-opening-weekend-3/
CATEGORIES:Hours
END:VEVENT
BEGIN:VEVENT
DTSTART;TZID=America/Edmonton:20230526T173000
DTEND;TZID=America/Edmonton:20230526T193000
DTSTAMP:20260424T183116
CREATED:20230504T200323Z
LAST-MODIFIED:20230504T200323Z
UID:9256-1685122200-1685129400@canyonski.ca
SUMMARY:Canyon Coaster OPEN
DESCRIPTION:
URL:https://canyonski.ca/hours/canyon-coaster-open-5/
CATEGORIES:Hours
END:VEVENT
BEGIN:VEVENT
DTSTART;TZID=America/Edmonton:20230527T110000
DTEND;TZID=America/Edmonton:20230527T180000
DTSTAMP:20260424T183116
CREATED:20230504T200513Z
LAST-MODIFIED:20230504T200513Z
UID:9258-1685185200-1685210400@canyonski.ca
SUMMARY:Canyon Coaster OPEN
DESCRIPTION:
URL:https://canyonski.ca/hours/canyon-coaster-open-6/
CATEGORIES:Hours
END:VEVENT
BEGIN:VEVENT
DTSTART;TZID=America/Edmonton:20230528T110000
DTEND;TZID=America/Edmonton:20230528T180000
DTSTAMP:20260424T183116
CREATED:20230504T200547Z
LAST-MODIFIED:20230504T200547Z
UID:9260-1685271600-1685296800@canyonski.ca
SUMMARY:Canyon Coaster OPEN
DESCRIPTION:
URL:https://canyonski.ca/hours/canyon-coaster-open-7/
CATEGORIES:Hours
END:VEVENT
END:VCALENDAR