BEGIN:VCALENDAR
VERSION:2.0
PRODID:-//Canyon Ski Resort - ECPv6.15.17.1//NONSGML v1.0//EN
CALSCALE:GREGORIAN
METHOD:PUBLISH
X-ORIGINAL-URL:https://canyonski.ca
X-WR-CALDESC:Events for Canyon Ski Resort
REFRESH-INTERVAL;VALUE=DURATION:PT1H
X-Robots-Tag:noindex
X-PUBLISHED-TTL:PT1H
BEGIN:VTIMEZONE
TZID:America/Edmonton
BEGIN:DAYLIGHT
TZOFFSETFROM:-0700
TZOFFSETTO:-0600
TZNAME:MDT
DTSTART:20240310T090000
END:DAYLIGHT
BEGIN:STANDARD
TZOFFSETFROM:-0600
TZOFFSETTO:-0700
TZNAME:MST
DTSTART:20241103T080000
END:STANDARD
BEGIN:DAYLIGHT
TZOFFSETFROM:-0700
TZOFFSETTO:-0600
TZNAME:MDT
DTSTART:20250309T090000
END:DAYLIGHT
BEGIN:STANDARD
TZOFFSETFROM:-0600
TZOFFSETTO:-0700
TZNAME:MST
DTSTART:20251102T080000
END:STANDARD
BEGIN:DAYLIGHT
TZOFFSETFROM:-0700
TZOFFSETTO:-0600
TZNAME:MDT
DTSTART:20260308T090000
END:DAYLIGHT
BEGIN:STANDARD
TZOFFSETFROM:-0600
TZOFFSETTO:-0700
TZNAME:MST
DTSTART:20261101T080000
END:STANDARD
END:VTIMEZONE
BEGIN:VEVENT
DTSTART;TZID=America/Edmonton:20250914T110000
DTEND;TZID=America/Edmonton:20250914T170000
DTSTAMP:20260421T020240
CREATED:20250516T163033Z
LAST-MODIFIED:20250828T202542Z
UID:47180-1757847600-1757869200@canyonski.ca
SUMMARY:Adventure Park & Zipline Open
DESCRIPTION:Sept Sale: All Day Net Park
URL:https://canyonski.ca/hours/adventure-park-zipline-open-65/
END:VEVENT
BEGIN:VEVENT
DTSTART;TZID=America/Edmonton:20250914T110000
DTEND;TZID=America/Edmonton:20250914T170000
DTSTAMP:20260421T020240
CREATED:20250516T163609Z
LAST-MODIFIED:20250828T202446Z
UID:47196-1757847600-1757869200@canyonski.ca
SUMMARY:Canyon Coaster Open
DESCRIPTION:Sept Sale: All Day Coaster Rides
URL:https://canyonski.ca/hours/canyon-coaster-open-242/
END:VEVENT
BEGIN:VEVENT
DTSTART;TZID=America/Edmonton:20250914T120000
DTEND;TZID=America/Edmonton:20250914T160000
DTSTAMP:20260421T020240
CREATED:20250721T192329Z
LAST-MODIFIED:20250828T202625Z
UID:47541-1757851200-1757865600@canyonski.ca
SUMMARY:LAST Weekend of Summer Tube Park & Bungee Trampoline Open
DESCRIPTION:Sept Sale: All Day Summer Tubing
URL:https://canyonski.ca/hours/last-weekend-of-summer-tube-park-bungee-trampoline-open-2/
END:VEVENT
END:VCALENDAR