BEGIN:VCALENDAR
VERSION:2.0
PRODID:-//Canyon Ski Resort - ECPv6.15.17.1//NONSGML v1.0//EN
CALSCALE:GREGORIAN
METHOD:PUBLISH
X-WR-CALNAME:Canyon Ski Resort
X-ORIGINAL-URL:https://canyonski.ca
X-WR-CALDESC:Events for Canyon Ski Resort
REFRESH-INTERVAL;VALUE=DURATION:PT1H
X-Robots-Tag:noindex
X-PUBLISHED-TTL:PT1H
BEGIN:VTIMEZONE
TZID:America/Edmonton
BEGIN:DAYLIGHT
TZOFFSETFROM:-0700
TZOFFSETTO:-0600
TZNAME:MDT
DTSTART:20240310T090000
END:DAYLIGHT
BEGIN:STANDARD
TZOFFSETFROM:-0600
TZOFFSETTO:-0700
TZNAME:MST
DTSTART:20241103T080000
END:STANDARD
BEGIN:DAYLIGHT
TZOFFSETFROM:-0700
TZOFFSETTO:-0600
TZNAME:MDT
DTSTART:20250309T090000
END:DAYLIGHT
BEGIN:STANDARD
TZOFFSETFROM:-0600
TZOFFSETTO:-0700
TZNAME:MST
DTSTART:20251102T080000
END:STANDARD
BEGIN:DAYLIGHT
TZOFFSETFROM:-0700
TZOFFSETTO:-0600
TZNAME:MDT
DTSTART:20260308T090000
END:DAYLIGHT
BEGIN:STANDARD
TZOFFSETFROM:-0600
TZOFFSETTO:-0700
TZNAME:MST
DTSTART:20261101T080000
END:STANDARD
END:VTIMEZONE
BEGIN:VEVENT
DTSTART;TZID=America/Edmonton:20250906T110000
DTEND;TZID=America/Edmonton:20250906T170000
DTSTAMP:20260421T015801
CREATED:20250516T162747Z
LAST-MODIFIED:20250828T202601Z
UID:47174-1757156400-1757178000@canyonski.ca
SUMMARY:Adventure Park & Zipline Open
DESCRIPTION:Sept Sale: All Day Net Park
URL:https://canyonski.ca/hours/adventure-park-zipline-open-62/
END:VEVENT
BEGIN:VEVENT
DTSTART;TZID=America/Edmonton:20250906T110000
DTEND;TZID=America/Edmonton:20250906T170000
DTSTAMP:20260421T015801
CREATED:20250516T163347Z
LAST-MODIFIED:20250828T202505Z
UID:47190-1757156400-1757178000@canyonski.ca
SUMMARY:Canyon Coaster Open
DESCRIPTION:
URL:https://canyonski.ca/hours/canyon-coaster-open-207/
END:VEVENT
BEGIN:VEVENT
DTSTART;TZID=America/Edmonton:20250906T120000
DTEND;TZID=America/Edmonton:20250906T160000
DTSTAMP:20260421T015801
CREATED:20250721T190251Z
LAST-MODIFIED:20250828T202640Z
UID:47535-1757160000-1757174400@canyonski.ca
SUMMARY:Summer Tube Park & Bungee Trampoline Open
DESCRIPTION:Sept Sale: All Day Summer Tubing
URL:https://canyonski.ca/hours/summer-tube-park-bungee-trampoline-open-59/
END:VEVENT
END:VCALENDAR