BEGIN:VCALENDAR
VERSION:2.0
PRODID:-//Canyon Ski Resort - ECPv6.15.17.1//NONSGML v1.0//EN
CALSCALE:GREGORIAN
METHOD:PUBLISH
X-ORIGINAL-URL:https://canyonski.ca
X-WR-CALDESC:Events for Canyon Ski Resort
REFRESH-INTERVAL;VALUE=DURATION:PT1H
X-Robots-Tag:noindex
X-PUBLISHED-TTL:PT1H
BEGIN:VTIMEZONE
TZID:America/Edmonton
BEGIN:DAYLIGHT
TZOFFSETFROM:-0700
TZOFFSETTO:-0600
TZNAME:MDT
DTSTART:20240310T090000
END:DAYLIGHT
BEGIN:STANDARD
TZOFFSETFROM:-0600
TZOFFSETTO:-0700
TZNAME:MST
DTSTART:20241103T080000
END:STANDARD
BEGIN:DAYLIGHT
TZOFFSETFROM:-0700
TZOFFSETTO:-0600
TZNAME:MDT
DTSTART:20250309T090000
END:DAYLIGHT
BEGIN:STANDARD
TZOFFSETFROM:-0600
TZOFFSETTO:-0700
TZNAME:MST
DTSTART:20251102T080000
END:STANDARD
BEGIN:DAYLIGHT
TZOFFSETFROM:-0700
TZOFFSETTO:-0600
TZNAME:MDT
DTSTART:20260308T090000
END:DAYLIGHT
BEGIN:STANDARD
TZOFFSETFROM:-0600
TZOFFSETTO:-0700
TZNAME:MST
DTSTART:20261101T080000
END:STANDARD
END:VTIMEZONE
BEGIN:VEVENT
DTSTART;TZID=America/Edmonton:20250828T100000
DTEND;TZID=America/Edmonton:20250828T180000
DTSTAMP:20260423T024321
CREATED:20250515T233601Z
LAST-MODIFIED:20250515T233601Z
UID:47060-1756375200-1756404000@canyonski.ca
SUMMARY:Canyon Coaster Open
DESCRIPTION:
URL:https://canyonski.ca/hours/canyon-coaster-open-236/
END:VEVENT
BEGIN:VEVENT
DTSTART;TZID=America/Edmonton:20250828T110000
DTEND;TZID=America/Edmonton:20250828T170000
DTSTAMP:20260423T024321
CREATED:20250516T172604Z
LAST-MODIFIED:20250516T172604Z
UID:47337-1756378800-1756400400@canyonski.ca
SUMMARY:Summer Tube Park & Bungee Trampoline Open
DESCRIPTION:
URL:https://canyonski.ca/hours/summer-tube-park-bungee-trampoline-open-54/
END:VEVENT
BEGIN:VEVENT
DTSTART;TZID=America/Edmonton:20250828T113000
DTEND;TZID=America/Edmonton:20250828T170000
DTSTAMP:20260423T024321
CREATED:20250516T162339Z
LAST-MODIFIED:20250619T165017Z
UID:47166-1756380600-1756400400@canyonski.ca
SUMMARY:Adventure Park & Zipline Open
DESCRIPTION:
URL:https://canyonski.ca/hours/adventure-park-zipline-open-58/
END:VEVENT
END:VCALENDAR