BEGIN:VCALENDAR
VERSION:2.0
PRODID:-//Canyon Ski Resort - ECPv6.15.17.1//NONSGML v1.0//EN
CALSCALE:GREGORIAN
METHOD:PUBLISH
X-ORIGINAL-URL:https://canyonski.ca
X-WR-CALDESC:Events for Canyon Ski Resort
REFRESH-INTERVAL;VALUE=DURATION:PT1H
X-Robots-Tag:noindex
X-PUBLISHED-TTL:PT1H
BEGIN:VTIMEZONE
TZID:America/Edmonton
BEGIN:DAYLIGHT
TZOFFSETFROM:-0700
TZOFFSETTO:-0600
TZNAME:MDT
DTSTART:20240310T090000
END:DAYLIGHT
BEGIN:STANDARD
TZOFFSETFROM:-0600
TZOFFSETTO:-0700
TZNAME:MST
DTSTART:20241103T080000
END:STANDARD
BEGIN:DAYLIGHT
TZOFFSETFROM:-0700
TZOFFSETTO:-0600
TZNAME:MDT
DTSTART:20250309T090000
END:DAYLIGHT
BEGIN:STANDARD
TZOFFSETFROM:-0600
TZOFFSETTO:-0700
TZNAME:MST
DTSTART:20251102T080000
END:STANDARD
BEGIN:DAYLIGHT
TZOFFSETFROM:-0700
TZOFFSETTO:-0600
TZNAME:MDT
DTSTART:20260308T090000
END:DAYLIGHT
BEGIN:STANDARD
TZOFFSETFROM:-0600
TZOFFSETTO:-0700
TZNAME:MST
DTSTART:20261101T080000
END:STANDARD
END:VTIMEZONE
BEGIN:VEVENT
DTSTART;TZID=America/Edmonton:20250822T100000
DTEND;TZID=America/Edmonton:20250822T180000
DTSTAMP:20260423T024302
CREATED:20250515T233233Z
LAST-MODIFIED:20250515T233233Z
UID:47050-1755856800-1755885600@canyonski.ca
SUMMARY:Canyon Coaster Open
DESCRIPTION:
URL:https://canyonski.ca/hours/canyon-coaster-open-231/
END:VEVENT
BEGIN:VEVENT
DTSTART;TZID=America/Edmonton:20250822T110000
DTEND;TZID=America/Edmonton:20250822T170000
DTSTAMP:20260423T024302
CREATED:20250516T162008Z
LAST-MODIFIED:20250619T164954Z
UID:47156-1755860400-1755882000@canyonski.ca
SUMMARY:Adventure Park & Zipline Open
DESCRIPTION:
URL:https://canyonski.ca/hours/adventure-park-zipline-open-53/
END:VEVENT
BEGIN:VEVENT
DTSTART;TZID=America/Edmonton:20250822T110000
DTEND;TZID=America/Edmonton:20250822T170000
DTSTAMP:20260423T024302
CREATED:20250516T172153Z
LAST-MODIFIED:20250516T172153Z
UID:47320-1755860400-1755882000@canyonski.ca
SUMMARY:Summer Tube Park & Bungee Trampoline Open
DESCRIPTION:
URL:https://canyonski.ca/hours/summer-tube-park-bungee-trampoline-open-49/
END:VEVENT
END:VCALENDAR