BEGIN:VCALENDAR
VERSION:2.0
PRODID:-//Canyon Ski Resort - ECPv6.15.17.1//NONSGML v1.0//EN
CALSCALE:GREGORIAN
METHOD:PUBLISH
X-ORIGINAL-URL:https://canyonski.ca
X-WR-CALDESC:Events for Canyon Ski Resort
REFRESH-INTERVAL;VALUE=DURATION:PT1H
X-Robots-Tag:noindex
X-PUBLISHED-TTL:PT1H
BEGIN:VTIMEZONE
TZID:America/Edmonton
BEGIN:DAYLIGHT
TZOFFSETFROM:-0700
TZOFFSETTO:-0600
TZNAME:MDT
DTSTART:20240310T090000
END:DAYLIGHT
BEGIN:STANDARD
TZOFFSETFROM:-0600
TZOFFSETTO:-0700
TZNAME:MST
DTSTART:20241103T080000
END:STANDARD
BEGIN:DAYLIGHT
TZOFFSETFROM:-0700
TZOFFSETTO:-0600
TZNAME:MDT
DTSTART:20250309T090000
END:DAYLIGHT
BEGIN:STANDARD
TZOFFSETFROM:-0600
TZOFFSETTO:-0700
TZNAME:MST
DTSTART:20251102T080000
END:STANDARD
BEGIN:DAYLIGHT
TZOFFSETFROM:-0700
TZOFFSETTO:-0600
TZNAME:MDT
DTSTART:20260308T090000
END:DAYLIGHT
BEGIN:STANDARD
TZOFFSETFROM:-0600
TZOFFSETTO:-0700
TZNAME:MST
DTSTART:20261101T080000
END:STANDARD
END:VTIMEZONE
BEGIN:VEVENT
DTSTART;TZID=America/Edmonton:20250810T100000
DTEND;TZID=America/Edmonton:20250810T180000
DTSTAMP:20260423T025407
CREATED:20250515T232215Z
LAST-MODIFIED:20250515T232215Z
UID:47027-1754820000-1754848800@canyonski.ca
SUMMARY:Canyon Coaster Open
DESCRIPTION:
URL:https://canyonski.ca/hours/canyon-coaster-open-221/
END:VEVENT
BEGIN:VEVENT
DTSTART;TZID=America/Edmonton:20250810T110000
DTEND;TZID=America/Edmonton:20250810T170000
DTSTAMP:20260423T025407
CREATED:20250516T160746Z
LAST-MODIFIED:20250619T164642Z
UID:47132-1754823600-1754845200@canyonski.ca
SUMMARY:Adventure Park & Zipline Open
DESCRIPTION:
URL:https://canyonski.ca/hours/adventure-park-zipline-open-43/
END:VEVENT
BEGIN:VEVENT
DTSTART;TZID=America/Edmonton:20250810T110000
DTEND;TZID=America/Edmonton:20250810T170000
DTSTAMP:20260423T025407
CREATED:20250516T171740Z
LAST-MODIFIED:20250810T181720Z
UID:47296-1754823600-1754845200@canyonski.ca
SUMMARY:Summer Tube Park OPEN
DESCRIPTION:
URL:https://canyonski.ca/hours/summer-tube-park-bungee-trampoline-open-40/
END:VEVENT
END:VCALENDAR