BEGIN:VCALENDAR
VERSION:2.0
PRODID:-//Canyon Ski Resort - ECPv6.15.17.1//NONSGML v1.0//EN
CALSCALE:GREGORIAN
METHOD:PUBLISH
X-WR-CALNAME:Canyon Ski Resort
X-ORIGINAL-URL:https://canyonski.ca
X-WR-CALDESC:Events for Canyon Ski Resort
REFRESH-INTERVAL;VALUE=DURATION:PT1H
X-Robots-Tag:noindex
X-PUBLISHED-TTL:PT1H
BEGIN:VTIMEZONE
TZID:America/Edmonton
BEGIN:DAYLIGHT
TZOFFSETFROM:-0700
TZOFFSETTO:-0600
TZNAME:MDT
DTSTART:20240310T090000
END:DAYLIGHT
BEGIN:STANDARD
TZOFFSETFROM:-0600
TZOFFSETTO:-0700
TZNAME:MST
DTSTART:20241103T080000
END:STANDARD
BEGIN:DAYLIGHT
TZOFFSETFROM:-0700
TZOFFSETTO:-0600
TZNAME:MDT
DTSTART:20250309T090000
END:DAYLIGHT
BEGIN:STANDARD
TZOFFSETFROM:-0600
TZOFFSETTO:-0700
TZNAME:MST
DTSTART:20251102T080000
END:STANDARD
BEGIN:DAYLIGHT
TZOFFSETFROM:-0700
TZOFFSETTO:-0600
TZNAME:MDT
DTSTART:20260308T090000
END:DAYLIGHT
BEGIN:STANDARD
TZOFFSETFROM:-0600
TZOFFSETTO:-0700
TZNAME:MST
DTSTART:20261101T080000
END:STANDARD
END:VTIMEZONE
BEGIN:VEVENT
DTSTART;TZID=America/Edmonton:20250323T090000
DTEND;TZID=America/Edmonton:20250323T170000
DTSTAMP:20260423T101040
CREATED:20250319T174107Z
LAST-MODIFIED:20250319T174227Z
UID:46551-1742720400-1742749200@canyonski.ca
SUMMARY:Last Day of 24/25 Winter Season "Hawaiian Day"
DESCRIPTION:
URL:https://canyonski.ca/hours/open-for-skiing-snowboarding-26/
CATEGORIES:Hours
ATTACH;FMTTYPE=image/jpeg:https://canyonski.ca/wp-content/uploads/2025/03/Colorful-Palm-Leaves-Tropical-Luau-Invitation.jpg
END:VEVENT
END:VCALENDAR