BEGIN:VCALENDAR
VERSION:2.0
PRODID:-//Canyon Ski Resort - ECPv6.15.17.1//NONSGML v1.0//EN
CALSCALE:GREGORIAN
METHOD:PUBLISH
X-WR-CALNAME:Canyon Ski Resort
X-ORIGINAL-URL:https://canyonski.ca
X-WR-CALDESC:Events for Canyon Ski Resort
REFRESH-INTERVAL;VALUE=DURATION:PT1H
X-Robots-Tag:noindex
X-PUBLISHED-TTL:PT1H
BEGIN:VTIMEZONE
TZID:America/Edmonton
BEGIN:DAYLIGHT
TZOFFSETFROM:-0700
TZOFFSETTO:-0600
TZNAME:MDT
DTSTART:20230312T090000
END:DAYLIGHT
BEGIN:STANDARD
TZOFFSETFROM:-0600
TZOFFSETTO:-0700
TZNAME:MST
DTSTART:20231105T080000
END:STANDARD
BEGIN:DAYLIGHT
TZOFFSETFROM:-0700
TZOFFSETTO:-0600
TZNAME:MDT
DTSTART:20240310T090000
END:DAYLIGHT
BEGIN:STANDARD
TZOFFSETFROM:-0600
TZOFFSETTO:-0700
TZNAME:MST
DTSTART:20241103T080000
END:STANDARD
BEGIN:DAYLIGHT
TZOFFSETFROM:-0700
TZOFFSETTO:-0600
TZNAME:MDT
DTSTART:20250309T090000
END:DAYLIGHT
BEGIN:STANDARD
TZOFFSETFROM:-0600
TZOFFSETTO:-0700
TZNAME:MST
DTSTART:20251102T080000
END:STANDARD
END:VTIMEZONE
BEGIN:VEVENT
DTSTART;TZID=America/Edmonton:20240902T110000
DTEND;TZID=America/Edmonton:20240902T170000
DTSTAMP:20260423T175514
CREATED:20240509T205630Z
LAST-MODIFIED:20240813T180640Z
UID:11564-1725274800-1725296400@canyonski.ca
SUMMARY:Canyon Coaster Open
DESCRIPTION:
URL:https://canyonski.ca/hours/canyon-coaster-open-180/
CATEGORIES:Hours
END:VEVENT
BEGIN:VEVENT
DTSTART;TZID=America/Edmonton:20240902T110000
DTEND;TZID=America/Edmonton:20240902T170000
DTSTAMP:20260423T175514
CREATED:20240509T222234Z
LAST-MODIFIED:20240703T163933Z
UID:11719-1725274800-1725296400@canyonski.ca
SUMMARY:Bungee Trampoline & Tube Park OPEN
DESCRIPTION:
URL:https://canyonski.ca/hours/tubing-slide-open-68/
CATEGORIES:Hours
END:VEVENT
BEGIN:VEVENT
DTSTART;TZID=America/Edmonton:20240902T110000
DTEND;TZID=America/Edmonton:20240902T170000
DTSTAMP:20260423T175514
CREATED:20240707T202429Z
LAST-MODIFIED:20240712T155707Z
UID:12641-1725274800-1725296400@canyonski.ca
SUMMARY:Zipline\, Aerial & Net Park OPEN
DESCRIPTION:
URL:https://canyonski.ca/hours/aerial-net-park-open-57/
END:VEVENT
END:VCALENDAR