BEGIN:VCALENDAR
VERSION:2.0
PRODID:-//Canyon Ski Resort - ECPv6.15.17.1//NONSGML v1.0//EN
CALSCALE:GREGORIAN
METHOD:PUBLISH
X-ORIGINAL-URL:https://canyonski.ca
X-WR-CALDESC:Events for Canyon Ski Resort
REFRESH-INTERVAL;VALUE=DURATION:PT1H
X-Robots-Tag:noindex
X-PUBLISHED-TTL:PT1H
BEGIN:VTIMEZONE
TZID:America/Edmonton
BEGIN:DAYLIGHT
TZOFFSETFROM:-0700
TZOFFSETTO:-0600
TZNAME:MDT
DTSTART:20230312T090000
END:DAYLIGHT
BEGIN:STANDARD
TZOFFSETFROM:-0600
TZOFFSETTO:-0700
TZNAME:MST
DTSTART:20231105T080000
END:STANDARD
BEGIN:DAYLIGHT
TZOFFSETFROM:-0700
TZOFFSETTO:-0600
TZNAME:MDT
DTSTART:20240310T090000
END:DAYLIGHT
BEGIN:STANDARD
TZOFFSETFROM:-0600
TZOFFSETTO:-0700
TZNAME:MST
DTSTART:20241103T080000
END:STANDARD
BEGIN:DAYLIGHT
TZOFFSETFROM:-0700
TZOFFSETTO:-0600
TZNAME:MDT
DTSTART:20250309T090000
END:DAYLIGHT
BEGIN:STANDARD
TZOFFSETFROM:-0600
TZOFFSETTO:-0700
TZNAME:MST
DTSTART:20251102T080000
END:STANDARD
END:VTIMEZONE
BEGIN:VEVENT
DTSTART;TZID=America/Edmonton:20240820T100000
DTEND;TZID=America/Edmonton:20240820T180000
DTSTAMP:20260423T192505
CREATED:20240509T204459Z
LAST-MODIFIED:20240509T204459Z
UID:11537-1724148000-1724176800@canyonski.ca
SUMMARY:Canyon Coaster Open
DESCRIPTION:
URL:https://canyonski.ca/hours/canyon-coaster-open-167/
CATEGORIES:Hours
END:VEVENT
BEGIN:VEVENT
DTSTART;TZID=America/Edmonton:20240820T110000
DTEND;TZID=America/Edmonton:20240820T170000
DTSTAMP:20260423T192505
CREATED:20240509T221315Z
LAST-MODIFIED:20240627T184537Z
UID:11693-1724151600-1724173200@canyonski.ca
SUMMARY:Bungee Trampoline & Tube Park Open
DESCRIPTION:
URL:https://canyonski.ca/hours/tubing-slide-open-56/
CATEGORIES:Hours
END:VEVENT
BEGIN:VEVENT
DTSTART;TZID=America/Edmonton:20240820T110000
DTEND;TZID=America/Edmonton:20240820T170000
DTSTAMP:20260423T192505
CREATED:20240707T200952Z
LAST-MODIFIED:20240712T155808Z
UID:12615-1724151600-1724173200@canyonski.ca
SUMMARY:Zipline\, Aerial & Net Park OPEN
DESCRIPTION:
URL:https://canyonski.ca/hours/aerial-net-park-open-44/
END:VEVENT
END:VCALENDAR