BEGIN:VCALENDAR
VERSION:2.0
PRODID:-//Canyon Ski Resort - ECPv6.15.17.1//NONSGML v1.0//EN
CALSCALE:GREGORIAN
METHOD:PUBLISH
X-WR-CALNAME:Canyon Ski Resort
X-ORIGINAL-URL:https://canyonski.ca
X-WR-CALDESC:Events for Canyon Ski Resort
REFRESH-INTERVAL;VALUE=DURATION:PT1H
X-Robots-Tag:noindex
X-PUBLISHED-TTL:PT1H
BEGIN:VTIMEZONE
TZID:America/Edmonton
BEGIN:DAYLIGHT
TZOFFSETFROM:-0700
TZOFFSETTO:-0600
TZNAME:MDT
DTSTART:20230312T090000
END:DAYLIGHT
BEGIN:STANDARD
TZOFFSETFROM:-0600
TZOFFSETTO:-0700
TZNAME:MST
DTSTART:20231105T080000
END:STANDARD
BEGIN:DAYLIGHT
TZOFFSETFROM:-0700
TZOFFSETTO:-0600
TZNAME:MDT
DTSTART:20240310T090000
END:DAYLIGHT
BEGIN:STANDARD
TZOFFSETFROM:-0600
TZOFFSETTO:-0700
TZNAME:MST
DTSTART:20241103T080000
END:STANDARD
BEGIN:DAYLIGHT
TZOFFSETFROM:-0700
TZOFFSETTO:-0600
TZNAME:MDT
DTSTART:20250309T090000
END:DAYLIGHT
BEGIN:STANDARD
TZOFFSETFROM:-0600
TZOFFSETTO:-0700
TZNAME:MST
DTSTART:20251102T080000
END:STANDARD
END:VTIMEZONE
BEGIN:VEVENT
DTSTART;TZID=America/Edmonton:20240725T100000
DTEND;TZID=America/Edmonton:20240725T150000
DTSTAMP:20260423T204824
CREATED:20240509T200407Z
LAST-MODIFIED:20240725T203218Z
UID:11485-1721901600-1721919600@canyonski.ca
SUMMARY:Canyon Coaster CLOSING early due to forecasted thunderstorm
DESCRIPTION:
URL:https://canyonski.ca/hours/canyon-coaster-open-142/
CATEGORIES:Hours
END:VEVENT
BEGIN:VEVENT
DTSTART;TZID=America/Edmonton:20240725T110000
DTEND;TZID=America/Edmonton:20240725T150000
DTSTAMP:20260423T204824
CREATED:20240509T215511Z
LAST-MODIFIED:20240725T203022Z
UID:11638-1721905200-1721919600@canyonski.ca
SUMMARY:Bungee Trampoline & Tube Park Open
DESCRIPTION:
URL:https://canyonski.ca/hours/tubing-slide-open-29/
CATEGORIES:Hours
END:VEVENT
BEGIN:VEVENT
DTSTART;TZID=America/Edmonton:20240725T110000
DTEND;TZID=America/Edmonton:20240725T153000
DTSTAMP:20260423T204824
CREATED:20240707T194348Z
LAST-MODIFIED:20240725T202935Z
UID:12563-1721905200-1721921400@canyonski.ca
SUMMARY:Zipline\, Aerial & Net Park OPEN
DESCRIPTION:
URL:https://canyonski.ca/hours/aerial-net-park-open-18/
END:VEVENT
END:VCALENDAR