BEGIN:VCALENDAR
VERSION:2.0
PRODID:-//Canyon Ski Resort - ECPv6.15.17.1//NONSGML v1.0//EN
CALSCALE:GREGORIAN
METHOD:PUBLISH
X-ORIGINAL-URL:https://canyonski.ca
X-WR-CALDESC:Events for Canyon Ski Resort
REFRESH-INTERVAL;VALUE=DURATION:PT1H
X-Robots-Tag:noindex
X-PUBLISHED-TTL:PT1H
BEGIN:VTIMEZONE
TZID:America/Edmonton
BEGIN:DAYLIGHT
TZOFFSETFROM:-0700
TZOFFSETTO:-0600
TZNAME:MDT
DTSTART:20220313T090000
END:DAYLIGHT
BEGIN:STANDARD
TZOFFSETFROM:-0600
TZOFFSETTO:-0700
TZNAME:MST
DTSTART:20221106T080000
END:STANDARD
BEGIN:DAYLIGHT
TZOFFSETFROM:-0700
TZOFFSETTO:-0600
TZNAME:MDT
DTSTART:20230312T090000
END:DAYLIGHT
BEGIN:STANDARD
TZOFFSETFROM:-0600
TZOFFSETTO:-0700
TZNAME:MST
DTSTART:20231105T080000
END:STANDARD
BEGIN:DAYLIGHT
TZOFFSETFROM:-0700
TZOFFSETTO:-0600
TZNAME:MDT
DTSTART:20240310T090000
END:DAYLIGHT
BEGIN:STANDARD
TZOFFSETFROM:-0600
TZOFFSETTO:-0700
TZNAME:MST
DTSTART:20241103T080000
END:STANDARD
END:VTIMEZONE
BEGIN:VEVENT
DTSTART;TZID=America/Edmonton:20230910T110000
DTEND;TZID=America/Edmonton:20230910T180000
DTSTAMP:20260424T122146
CREATED:20230814T154142Z
LAST-MODIFIED:20230814T154142Z
UID:9862-1694343600-1694368800@canyonski.ca
SUMMARY:Canyon Coaster OPEN
DESCRIPTION:
URL:https://canyonski.ca/hours/canyon-coaster-open-88/
CATEGORIES:Hours
END:VEVENT
BEGIN:VEVENT
DTSTART;TZID=America/Edmonton:20230910T120000
DTEND;TZID=America/Edmonton:20230910T170000
DTSTAMP:20260424T122146
CREATED:20230814T155229Z
LAST-MODIFIED:20230814T155229Z
UID:9887-1694347200-1694365200@canyonski.ca
SUMMARY:Summer Tubing OPEN
DESCRIPTION:
URL:https://canyonski.ca/hours/summer-tubing-open-72/
CATEGORIES:Hours
END:VEVENT
END:VCALENDAR