BEGIN:VCALENDAR
VERSION:2.0
PRODID:-//Canyon Ski Resort - ECPv6.15.17.1//NONSGML v1.0//EN
CALSCALE:GREGORIAN
METHOD:PUBLISH
X-WR-CALNAME:Canyon Ski Resort
X-ORIGINAL-URL:https://canyonski.ca
X-WR-CALDESC:Events for Canyon Ski Resort
REFRESH-INTERVAL;VALUE=DURATION:PT1H
X-Robots-Tag:noindex
X-PUBLISHED-TTL:PT1H
BEGIN:VTIMEZONE
TZID:America/Edmonton
BEGIN:DAYLIGHT
TZOFFSETFROM:-0700
TZOFFSETTO:-0600
TZNAME:MDT
DTSTART:20220313T090000
END:DAYLIGHT
BEGIN:STANDARD
TZOFFSETFROM:-0600
TZOFFSETTO:-0700
TZNAME:MST
DTSTART:20221106T080000
END:STANDARD
BEGIN:DAYLIGHT
TZOFFSETFROM:-0700
TZOFFSETTO:-0600
TZNAME:MDT
DTSTART:20230312T090000
END:DAYLIGHT
BEGIN:STANDARD
TZOFFSETFROM:-0600
TZOFFSETTO:-0700
TZNAME:MST
DTSTART:20231105T080000
END:STANDARD
BEGIN:DAYLIGHT
TZOFFSETFROM:-0700
TZOFFSETTO:-0600
TZNAME:MDT
DTSTART:20240310T090000
END:DAYLIGHT
BEGIN:STANDARD
TZOFFSETFROM:-0600
TZOFFSETTO:-0700
TZNAME:MST
DTSTART:20241103T080000
END:STANDARD
END:VTIMEZONE
BEGIN:VEVENT
DTSTART;TZID=America/Edmonton:20230809T100000
DTEND;TZID=America/Edmonton:20230809T190000
DTSTAMP:20260424T140150
CREATED:20230504T213844Z
LAST-MODIFIED:20230504T213844Z
UID:9378-1691575200-1691607600@canyonski.ca
SUMMARY:Canyon Coaster OPEN
DESCRIPTION:
URL:https://canyonski.ca/hours/canyon-coaster-open-59/
CATEGORIES:Hours
END:VEVENT
BEGIN:VEVENT
DTSTART;TZID=America/Edmonton:20230809T110000
DTEND;TZID=America/Edmonton:20230809T180000
DTSTAMP:20260424T140150
CREATED:20230621T202720Z
LAST-MODIFIED:20230621T202720Z
UID:9716-1691578800-1691604000@canyonski.ca
SUMMARY:Summer Tubing OPEN
DESCRIPTION:
URL:https://canyonski.ca/hours/summer-tubing-open-46/
CATEGORIES:Hours
END:VEVENT
END:VCALENDAR