BEGIN:VCALENDAR
VERSION:2.0
PRODID:-//Canyon Ski Resort - ECPv6.15.17.1//NONSGML v1.0//EN
CALSCALE:GREGORIAN
METHOD:PUBLISH
X-ORIGINAL-URL:https://canyonski.ca
X-WR-CALDESC:Events for Canyon Ski Resort
REFRESH-INTERVAL;VALUE=DURATION:PT1H
X-Robots-Tag:noindex
X-PUBLISHED-TTL:PT1H
BEGIN:VTIMEZONE
TZID:America/Edmonton
BEGIN:DAYLIGHT
TZOFFSETFROM:-0700
TZOFFSETTO:-0600
TZNAME:MDT
DTSTART:20220313T090000
END:DAYLIGHT
BEGIN:STANDARD
TZOFFSETFROM:-0600
TZOFFSETTO:-0700
TZNAME:MST
DTSTART:20221106T080000
END:STANDARD
BEGIN:DAYLIGHT
TZOFFSETFROM:-0700
TZOFFSETTO:-0600
TZNAME:MDT
DTSTART:20230312T090000
END:DAYLIGHT
BEGIN:STANDARD
TZOFFSETFROM:-0600
TZOFFSETTO:-0700
TZNAME:MST
DTSTART:20231105T080000
END:STANDARD
BEGIN:DAYLIGHT
TZOFFSETFROM:-0700
TZOFFSETTO:-0600
TZNAME:MDT
DTSTART:20240310T090000
END:DAYLIGHT
BEGIN:STANDARD
TZOFFSETFROM:-0600
TZOFFSETTO:-0700
TZNAME:MST
DTSTART:20241103T080000
END:STANDARD
END:VTIMEZONE
BEGIN:VEVENT
DTSTART;TZID=America/Edmonton:20230801T100000
DTEND;TZID=America/Edmonton:20230801T190000
DTSTAMP:20260424T153352
CREATED:20230504T212832Z
LAST-MODIFIED:20230504T213106Z
UID:9362-1690884000-1690916400@canyonski.ca
SUMMARY:Canyon Coaster OPEN
DESCRIPTION:
URL:https://canyonski.ca/hours/canyon-coaster-open-52/
CATEGORIES:Hours
END:VEVENT
BEGIN:VEVENT
DTSTART;TZID=America/Edmonton:20230801T110000
DTEND;TZID=America/Edmonton:20230801T180000
DTSTAMP:20260424T153352
CREATED:20230621T195630Z
LAST-MODIFIED:20230621T195630Z
UID:9695-1690887600-1690912800@canyonski.ca
SUMMARY:Summer Tubing OPEN
DESCRIPTION:
URL:https://canyonski.ca/hours/summer-tubing-open-36/
CATEGORIES:Hours
END:VEVENT
END:VCALENDAR