BEGIN:VCALENDAR
VERSION:2.0
PRODID:-//Canyon Ski Resort - ECPv6.15.17.1//NONSGML v1.0//EN
CALSCALE:GREGORIAN
METHOD:PUBLISH
X-WR-CALNAME:Canyon Ski Resort
X-ORIGINAL-URL:https://canyonski.ca
X-WR-CALDESC:Events for Canyon Ski Resort
REFRESH-INTERVAL;VALUE=DURATION:PT1H
X-Robots-Tag:noindex
X-PUBLISHED-TTL:PT1H
BEGIN:VTIMEZONE
TZID:America/Edmonton
BEGIN:DAYLIGHT
TZOFFSETFROM:-0700
TZOFFSETTO:-0600
TZNAME:MDT
DTSTART:20220313T090000
END:DAYLIGHT
BEGIN:STANDARD
TZOFFSETFROM:-0600
TZOFFSETTO:-0700
TZNAME:MST
DTSTART:20221106T080000
END:STANDARD
BEGIN:DAYLIGHT
TZOFFSETFROM:-0700
TZOFFSETTO:-0600
TZNAME:MDT
DTSTART:20230312T090000
END:DAYLIGHT
BEGIN:STANDARD
TZOFFSETFROM:-0600
TZOFFSETTO:-0700
TZNAME:MST
DTSTART:20231105T080000
END:STANDARD
BEGIN:DAYLIGHT
TZOFFSETFROM:-0700
TZOFFSETTO:-0600
TZNAME:MDT
DTSTART:20240310T090000
END:DAYLIGHT
BEGIN:STANDARD
TZOFFSETFROM:-0600
TZOFFSETTO:-0700
TZNAME:MST
DTSTART:20241103T080000
END:STANDARD
END:VTIMEZONE
BEGIN:VEVENT
DTSTART;TZID=America/Edmonton:20230722T100000
DTEND;TZID=America/Edmonton:20230722T190000
DTSTAMP:20260424T170209
CREATED:20230504T211506Z
LAST-MODIFIED:20230504T211506Z
UID:9344-1690020000-1690052400@canyonski.ca
SUMMARY:Canyon Coaster OPEN
DESCRIPTION:
URL:https://canyonski.ca/hours/canyon-coaster-open-43/
CATEGORIES:Hours
END:VEVENT
BEGIN:VEVENT
DTSTART;TZID=America/Edmonton:20230722T110000
DTEND;TZID=America/Edmonton:20230722T180000
DTSTAMP:20260424T170209
CREATED:20230621T193429Z
LAST-MODIFIED:20230621T213605Z
UID:9674-1690023600-1690048800@canyonski.ca
SUMMARY:Summer Tubing OPEN
DESCRIPTION:
URL:https://canyonski.ca/hours/summer-tubing-open-26/
CATEGORIES:Hours
END:VEVENT
END:VCALENDAR